BEGIN:VCALENDAR
VERSION:2.0
PRODID:-//Provincial Grand Lodge of Lincolnshire - ECPv5.8.2//NONSGML v1.0//EN
CALSCALE:GREGORIAN
METHOD:PUBLISH
X-WR-CALNAME:Provincial Grand Lodge of Lincolnshire
X-ORIGINAL-URL:https://www.lincolnshirefreemasons.org
X-WR-CALDESC:Events for Provincial Grand Lodge of Lincolnshire
BEGIN:VTIMEZONE
TZID:Europe/London
BEGIN:DAYLIGHT
TZOFFSETFROM:+0000
TZOFFSETTO:+0100
TZNAME:BST
DTSTART:20260329T010000
END:DAYLIGHT
BEGIN:STANDARD
TZOFFSETFROM:+0100
TZOFFSETTO:+0000
TZNAME:GMT
DTSTART:20261025T010000
END:STANDARD
TZID:UTC
BEGIN:STANDARD
TZOFFSETFROM:+0000
TZOFFSETTO:+0000
TZNAME:UTC
DTSTART:20260101T000000
END:STANDARD
END:VTIMEZONE
BEGIN:VEVENT
DTSTART;VALUE=DATE:20260326
DTEND;VALUE=DATE:20260327
DTSTAMP:20260424T101735
CREATED:20190909T140342Z
LAST-MODIFIED:20190909T140342Z
UID:20028-1774483200-1774569599@www.lincolnshirefreemasons.org
SUMMARY:Oliver Chapter No 792
DESCRIPTION:
URL:https://www.lincolnshirefreemasons.org/event/oliver-chapter-no-792/2026-03-26/
LOCATION:Grimsby\, Masonic Hall\, Cambridge Road\, Grimsby
CATEGORIES:Calendar,Chapter
END:VEVENT
BEGIN:VEVENT
DTSTART;VALUE=DATE:20260511
DTEND;VALUE=DATE:20260512
DTSTAMP:20260424T101735
CREATED:20190909T140522Z
LAST-MODIFIED:20190909T140522Z
UID:20516-1778457600-1778543999@www.lincolnshirefreemasons.org
SUMMARY:Edward Albert Chapter No 985
DESCRIPTION:
URL:https://www.lincolnshirefreemasons.org/event/edwaed-albert-chapter-no-985/2026-05-11/
LOCATION:Long Sutton\, Park Lane\, Long Sutton
CATEGORIES:Calendar,Chapter
END:VEVENT
BEGIN:VEVENT
DTSTART;VALUE=DATE:20260401
DTEND;VALUE=DATE:20260402
DTSTAMP:20260424T101735
CREATED:20190909T140728Z
LAST-MODIFIED:20190909T140728Z
UID:20078-1775001600-1775087999@www.lincolnshirefreemasons.org
SUMMARY:Hereward Chapter No 1232
DESCRIPTION:
URL:https://www.lincolnshirefreemasons.org/event/hereward-chapter-no-1232/2026-04-01/
LOCATION:Bourne\, Roman Bank\, Bourne\, PE10 9LQ
END:VEVENT
BEGIN:VEVENT
DTSTART;VALUE=DATE:20260407
DTEND;VALUE=DATE:20260408
DTSTAMP:20260424T101735
CREATED:20190909T140908Z
LAST-MODIFIED:20190909T140908Z
UID:20138-1775520000-1775606399@www.lincolnshirefreemasons.org
SUMMARY:Ancholme Chapter No 1282
DESCRIPTION:
URL:https://www.lincolnshirefreemasons.org/event/ancholme-chapter-no-1282/2026-04-07/
LOCATION:Brigg\, Cary Lane\, Brigg
CATEGORIES:Calendar,Chapter
END:VEVENT
BEGIN:VEVENT
DTSTART;VALUE=DATE:20260520
DTEND;VALUE=DATE:20260521
DTSTAMP:20260424T101735
CREATED:20190909T141145Z
LAST-MODIFIED:20190909T141145Z
UID:20644-1779235200-1779321599@www.lincolnshirefreemasons.org
SUMMARY:Saint Albans Chapter No 1294
DESCRIPTION:
URL:https://www.lincolnshirefreemasons.org/event/saint-albans-chapter-no-1294/2026-05-20/
LOCATION:Grimsby\, Masonic Hall\, Cambridge Road\, Grimsby
CATEGORIES:Calendar,Chapter
END:VEVENT
BEGIN:VEVENT
DTSTART;VALUE=DATE:20261020
DTEND;VALUE=DATE:20261021
DTSTAMP:20260424T101735
CREATED:20190909T141324Z
LAST-MODIFIED:20190909T141324Z
UID:22601-1792454400-1792540799@www.lincolnshirefreemasons.org
SUMMARY:Banovallum Chapter No 1304
DESCRIPTION:
URL:https://www.lincolnshirefreemasons.org/event/banovallum-chapter-no-1304/2026-10-20/
LOCATION:Horncastle\, Banks Street\, Horncastle
CATEGORIES:Calendar,Chapter
END:VEVENT
BEGIN:VEVENT
DTSTART;VALUE=DATE:20260325
DTEND;VALUE=DATE:20260326
DTSTAMP:20260424T101735
CREATED:20190909T141544Z
LAST-MODIFIED:20190909T141544Z
UID:20020-1774396800-1774483199@www.lincolnshirefreemasons.org
SUMMARY:Hugh Of Avalon Chapter No 1386
DESCRIPTION:
URL:https://www.lincolnshirefreemasons.org/event/hugh-of-avalon-chapter-no-1386/2026-03-25/
LOCATION:Lincoln\, 116 Nettleham Road\, Lincoln\, LN2 1RR
CATEGORIES:Calendar,Chapter
END:VEVENT
BEGIN:VEVENT
DTSTART;VALUE=DATE:20260512
DTEND;VALUE=DATE:20260513
DTSTAMP:20260424T101735
CREATED:20190909T141712Z
LAST-MODIFIED:20190909T141712Z
UID:20532-1778544000-1778630399@www.lincolnshirefreemasons.org
SUMMARY:St Matthew Chapter No 1447
DESCRIPTION:
URL:https://www.lincolnshirefreemasons.org/event/st-matthew-chapter-no-1447/2026-05-12/
LOCATION:Barton Upon Humber\, Brigg Road\, Barton Upon Humber
CATEGORIES:Calendar,Chapter
END:VEVENT
BEGIN:VEVENT
DTSTART;VALUE=DATE:20260423
DTEND;VALUE=DATE:20260424
DTSTAMP:20260424T101735
CREATED:20190909T141841Z
LAST-MODIFIED:20190909T141841Z
UID:20353-1776902400-1776988799@www.lincolnshirefreemasons.org
SUMMARY:Isle of Axholme Chapter No 1482
DESCRIPTION:
URL:https://www.lincolnshirefreemasons.org/event/isle-of-axholme-chapter-no-1482/2026-04-23/
LOCATION:Crowle\, Park View\, Crowle
CATEGORIES:Calendar,Chapter
END:VEVENT
BEGIN:VEVENT
DTSTART;VALUE=DATE:20260326
DTEND;VALUE=DATE:20260327
DTSTAMP:20260424T101735
CREATED:20190909T142237Z
LAST-MODIFIED:20190909T142237Z
UID:20030-1774483200-1774569599@www.lincolnshirefreemasons.org
SUMMARY:Lumley Chapter No 1893
DESCRIPTION:
URL:https://www.lincolnshirefreemasons.org/event/lumley-chapter-no-1893/2026-03-26/
LOCATION:Skegness\, Holly Road\,\, Skegness
CATEGORIES:Calendar,Chapter
END:VEVENT
BEGIN:VEVENT
DTSTART;VALUE=DATE:20260409
DTEND;VALUE=DATE:20260410
DTSTAMP:20260424T101735
CREATED:20190909T142422Z
LAST-MODIFIED:20190909T142422Z
UID:20175-1775692800-1775779199@www.lincolnshirefreemasons.org
SUMMARY:St. Lawrence Chapter No 2078
DESCRIPTION:
URL:https://www.lincolnshirefreemasons.org/event/st-lawrence-chapter-no-2078/2026-04-09/
LOCATION:Scunthorpe\, Normanby Road\, Scunthorpe
CATEGORIES:Calendar,Chapter
END:VEVENT
BEGIN:VEVENT
DTSTART;VALUE=DATE:20260506
DTEND;VALUE=DATE:20260507
DTSTAMP:20260424T101735
CREATED:20190909T142823Z
LAST-MODIFIED:20190909T142823Z
UID:20441-1778025600-1778111999@www.lincolnshirefreemasons.org
SUMMARY:Kitwood Chapter No 2284
DESCRIPTION:
URL:https://www.lincolnshirefreemasons.org/event/kitwood-chapter-no-2284/2026-05-06/
LOCATION:Grimsby\, Masonic Hall\, Cambridge Road\, Grimsby
CATEGORIES:Calendar,Chapter
END:VEVENT
BEGIN:VEVENT
DTSTART;VALUE=DATE:20260421
DTEND;VALUE=DATE:20260422
DTSTAMP:20260424T101735
CREATED:20190909T143050Z
LAST-MODIFIED:20190909T143050Z
UID:20331-1776729600-1776815999@www.lincolnshirefreemasons.org
SUMMARY:Ermine Chapter No 2351
DESCRIPTION:
URL:https://www.lincolnshirefreemasons.org/event/ermine-chapter-no-2351/2026-04-21/
CATEGORIES:Calendar,Chapter
END:VEVENT
BEGIN:VEVENT
DTSTART;VALUE=DATE:20261008
DTEND;VALUE=DATE:20261009
DTSTAMP:20260424T101735
CREATED:20190909T143247Z
LAST-MODIFIED:20190909T143247Z
UID:22420-1791417600-1791503999@www.lincolnshirefreemasons.org
SUMMARY:Earl of Yarborough Chapter No 2770
DESCRIPTION:
URL:https://www.lincolnshirefreemasons.org/event/earl-of-yarborough-chapter-no-2770/2026-10-08/
LOCATION:Grimsby\, Masonic Hall\, Cambridge Road\, Grimsby
CATEGORIES:Calendar,Chapter
END:VEVENT
BEGIN:VEVENT
DTSTART;VALUE=DATE:20260910
DTEND;VALUE=DATE:20260911
DTSTAMP:20260424T101735
CREATED:20190916T094933Z
LAST-MODIFIED:20190916T094933Z
UID:21953-1788998400-1789084799@www.lincolnshirefreemasons.org
SUMMARY:St. Guthlac Chapter No 2880
DESCRIPTION:
URL:https://www.lincolnshirefreemasons.org/event/st-guthlac-chapter-no-2880/2026-09-10/
LOCATION:Deeping St. James\, 96 Bridge Street\, Deeping St. James\, PE6 8HA\, United Kingdom
CATEGORIES:Calendar,Chapter
END:VEVENT
BEGIN:VEVENT
DTSTART;VALUE=DATE:20260414
DTEND;VALUE=DATE:20260415
DTSTAMP:20260424T101735
CREATED:20190916T095120Z
LAST-MODIFIED:20190916T095120Z
UID:20236-1776124800-1776211199@www.lincolnshirefreemasons.org
SUMMARY:Lord Worsley Chapter No 3017
DESCRIPTION:
URL:https://www.lincolnshirefreemasons.org/event/lord-worsley-chapter-no-3017/2026-04-14/
LOCATION:Cleethorpes\, 1 Kings Road\, Cleethorpes
CATEGORIES:Calendar,Chapter
END:VEVENT
BEGIN:VEVENT
DTSTART;VALUE=DATE:20260409
DTEND;VALUE=DATE:20260410
DTSTAMP:20260424T101735
CREATED:20190916T095241Z
LAST-MODIFIED:20190916T095241Z
UID:20174-1775692800-1775779199@www.lincolnshirefreemasons.org
SUMMARY:Astral Chapter No 3841
DESCRIPTION:
URL:https://www.lincolnshirefreemasons.org/event/astral-chapter-no-3841/2026-04-09/
LOCATION:Grimsby\, Masonic Hall\, Cambridge Road\, Grimsby
CATEGORIES:Calendar,Chapter
END:VEVENT
BEGIN:VEVENT
DTSTART;VALUE=DATE:20261119
DTEND;VALUE=DATE:20261120
DTSTAMP:20260424T101735
CREATED:20190916T095446Z
LAST-MODIFIED:20190916T095446Z
UID:22963-1795046400-1795132799@www.lincolnshirefreemasons.org
SUMMARY:Granta Chapter No 4950
DESCRIPTION:
URL:https://www.lincolnshirefreemasons.org/event/granta-chapter-no-4950/2026-11-19/
LOCATION:Grantham\, Chambers Street\, Grantham
CATEGORIES:Calendar,Chapter
END:VEVENT
BEGIN:VEVENT
DTSTART;VALUE=DATE:20260903
DTEND;VALUE=DATE:20260904
DTSTAMP:20260424T101735
CREATED:20190916T095713Z
LAST-MODIFIED:20190916T095713Z
UID:21868-1788393600-1788479999@www.lincolnshirefreemasons.org
SUMMARY:Shire Chapter No 5610
DESCRIPTION:
URL:https://www.lincolnshirefreemasons.org/event/shire-chapter-no-5610/2026-09-03/
LOCATION:Sleaford\, Watergate\, Sleaford
CATEGORIES:Calendar,Chapter
END:VEVENT
BEGIN:VEVENT
DTSTART;VALUE=DATE:20260507
DTEND;VALUE=DATE:20260508
DTSTAMP:20260424T101735
CREATED:20190916T095847Z
LAST-MODIFIED:20190916T095847Z
UID:20462-1778112000-1778198399@www.lincolnshirefreemasons.org
SUMMARY:St. Peter Chapter No 7648
DESCRIPTION:
URL:https://www.lincolnshirefreemasons.org/event/st-peter-chapter-no-7648/2026-05-07/
LOCATION:Cleethorpes\, 1 Kings Road\, Cleethorpes
CATEGORIES:Calendar,Chapter
END:VEVENT
BEGIN:VEVENT
DTSTART;VALUE=DATE:20260514
DTEND;VALUE=DATE:20260515
DTSTAMP:20260424T101735
CREATED:20190916T100143Z
LAST-MODIFIED:20190916T100143Z
UID:20545-1778716800-1778803199@www.lincolnshirefreemasons.org
SUMMARY:Chapter of St. John No 7840
DESCRIPTION:
URL:https://www.lincolnshirefreemasons.org/event/chapter-of-st-john-no-7840/2026-05-14/
LOCATION:Scunthorpe\, Normanby Road\, Scunthorpe
CATEGORIES:Calendar,Chapter
END:VEVENT
BEGIN:VEVENT
DTSTART;VALUE=DATE:20261013
DTEND;VALUE=DATE:20261014
DTSTAMP:20260424T101735
CREATED:20190916T100400Z
LAST-MODIFIED:20190916T100400Z
UID:22482-1791849600-1791935999@www.lincolnshirefreemasons.org
SUMMARY:Round Table Chapter No 8240
DESCRIPTION:
URL:https://www.lincolnshirefreemasons.org/event/round-tableb-chaoter-no-8240/2026-10-13/
LOCATION:Horncastle\, Banks Street\, Horncastle
CATEGORIES:Calendar,Chapter
END:VEVENT
BEGIN:VEVENT
DTSTART;VALUE=DATE:20260514
DTEND;VALUE=DATE:20260515
DTSTAMP:20260424T101735
CREATED:20190916T100552Z
LAST-MODIFIED:20190916T100552Z
UID:20544-1778716800-1778803199@www.lincolnshirefreemasons.org
SUMMARY:Pilgrim Fathers Chapter No 8795
DESCRIPTION:
URL:https://www.lincolnshirefreemasons.org/event/pilgrim-fathers-chapter-no-8795/2026-05-14/
LOCATION:Boston\, Main Ridge West\, Boston
CATEGORIES:Calendar,Chapter
END:VEVENT
BEGIN:VEVENT
DTSTART;VALUE=DATE:20260423
DTEND;VALUE=DATE:20260424
DTSTAMP:20260424T101735
CREATED:20190916T100756Z
LAST-MODIFIED:20190916T100756Z
UID:23898-1776902400-1776988799@www.lincolnshirefreemasons.org
SUMMARY:Wellow Abbey Chapter No 8819
DESCRIPTION:
URL:https://www.lincolnshirefreemasons.org/event/wellow-abbey-chapter-no-8819/2026-04-23/
LOCATION:Grimsby\, Masonic Hall\, Cambridge Road\, Grimsby
CATEGORIES:Calendar,Chapter
END:VEVENT
BEGIN:VEVENT
DTSTART;VALUE=DATE:20260911
DTEND;VALUE=DATE:20260912
DTSTAMP:20260424T101735
CREATED:20190916T101012Z
LAST-MODIFIED:20190916T101012Z
UID:21951-1789084800-1789171199@www.lincolnshirefreemasons.org
SUMMARY:Geoffrey Cooper Chapter of Installed First Principals No 9467
DESCRIPTION:
URL:https://www.lincolnshirefreemasons.org/event/geoffrey-cooper-chapter-of-installed-first-principals-no-9467/2026-09-11/
LOCATION:Horncastle\, Banks Street\, Horncastle
CATEGORIES:Calendar,Chapter
END:VEVENT
BEGIN:VEVENT
DTSTART;VALUE=DATE:20260324
DTEND;VALUE=DATE:20260325
DTSTAMP:20260424T101735
CREATED:20230321T081156Z
LAST-MODIFIED:20230321T081156Z
UID:20019-1774310400-1774396799@www.lincolnshirefreemasons.org
SUMMARY:Vigilantes Lodge No 7264
DESCRIPTION:Meeting at Cleethorpes
URL:https://www.lincolnshirefreemasons.org/event/vigilantes-lodge-no-7264/2026-03-24/
LOCATION:Cleethorpes\, 1 Kings Road\, Cleethorpes
CATEGORIES:Calendar
END:VEVENT
BEGIN:VEVENT
DTSTART;VALUE=DATE:20260601
DTEND;VALUE=DATE:20260602
DTSTAMP:20260424T101735
CREATED:20250903T094755Z
LAST-MODIFIED:20250903T094755Z
UID:21849-1780272000-1780358399@www.lincolnshirefreemasons.org
SUMMARY:St. Lawrence Lodge No 2078
DESCRIPTION:
URL:https://www.lincolnshirefreemasons.org/event/st-lawrence-lodge-no-2078-2/
LOCATION:Scunthorpe\, Normanby Road\, Scunthorpe
END:VEVENT
END:VCALENDAR