BEGIN:VCALENDAR
VERSION:2.0
PRODID:-//Provincial Grand Lodge of Lincolnshire - ECPv5.8.2//NONSGML v1.0//EN
CALSCALE:GREGORIAN
METHOD:PUBLISH
X-WR-CALNAME:Provincial Grand Lodge of Lincolnshire
X-ORIGINAL-URL:https://www.lincolnshirefreemasons.org
X-WR-CALDESC:Events for Provincial Grand Lodge of Lincolnshire
BEGIN:VTIMEZONE
TZID:UTC
BEGIN:STANDARD
TZOFFSETFROM:+0000
TZOFFSETTO:+0000
TZNAME:UTC
DTSTART:20260101T000000
END:STANDARD
TZID:Europe/London
BEGIN:DAYLIGHT
TZOFFSETFROM:+0000
TZOFFSETTO:+0100
TZNAME:BST
DTSTART:20260329T010000
END:DAYLIGHT
BEGIN:STANDARD
TZOFFSETFROM:+0100
TZOFFSETTO:+0000
TZNAME:GMT
DTSTART:20261025T010000
END:STANDARD
END:VTIMEZONE
BEGIN:VEVENT
DTSTART;VALUE=DATE:20260428
DTEND;VALUE=DATE:20260429
DTSTAMP:20260424T143616
CREATED:20230321T081156Z
LAST-MODIFIED:20230321T081156Z
UID:20385-1777334400-1777420799@www.lincolnshirefreemasons.org
SUMMARY:Vigilantes Lodge No 7264
DESCRIPTION:Meeting at Cleethorpes
URL:https://www.lincolnshirefreemasons.org/event/vigilantes-lodge-no-7264/2026-04-28/
LOCATION:Cleethorpes\, 1 Kings Road\, Cleethorpes
CATEGORIES:Calendar
END:VEVENT
BEGIN:VEVENT
DTSTART;VALUE=DATE:20260601
DTEND;VALUE=DATE:20260602
DTSTAMP:20260424T143616
CREATED:20250903T094755Z
LAST-MODIFIED:20250903T094755Z
UID:21849-1780272000-1780358399@www.lincolnshirefreemasons.org
SUMMARY:St. Lawrence Lodge No 2078
DESCRIPTION:
URL:https://www.lincolnshirefreemasons.org/event/st-lawrence-lodge-no-2078-2/
LOCATION:Scunthorpe\, Normanby Road\, Scunthorpe
END:VEVENT
END:VCALENDAR