BEGIN:VCALENDAR
VERSION:2.0
PRODID:-//Provincial Grand Lodge of Lincolnshire - ECPv5.8.2//NONSGML v1.0//EN
CALSCALE:GREGORIAN
METHOD:PUBLISH
X-WR-CALNAME:Provincial Grand Lodge of Lincolnshire
X-ORIGINAL-URL:https://www.lincolnshirefreemasons.org
X-WR-CALDESC:Events for Provincial Grand Lodge of Lincolnshire
BEGIN:VTIMEZONE
TZID:UTC
BEGIN:STANDARD
TZOFFSETFROM:+0000
TZOFFSETTO:+0000
TZNAME:UTC
DTSTART:20250101T000000
END:STANDARD
END:VTIMEZONE
BEGIN:VEVENT
DTSTART;VALUE=DATE:20260428
DTEND;VALUE=DATE:20260429
DTSTAMP:20260424T001752
CREATED:20190301T082944Z
LAST-MODIFIED:20190301T082944Z
UID:20383-1777334400-1777420799@www.lincolnshirefreemasons.org
SUMMARY:Ermine Lodge No 2351
DESCRIPTION:
URL:https://www.lincolnshirefreemasons.org/event/ermine-lodge-no-2351/2026-04-28/
LOCATION:Lincoln\, 116 Nettleham Road\, Lincoln\, LN2 1RR
CATEGORIES:Calendar
END:VEVENT
BEGIN:VEVENT
DTSTART;VALUE=DATE:20260417
DTEND;VALUE=DATE:20260418
DTSTAMP:20260424T001752
CREATED:20190301T091728Z
LAST-MODIFIED:20190301T091728Z
UID:20279-1776384000-1776470399@www.lincolnshirefreemasons.org
SUMMARY:Astral Lodge No 3841
DESCRIPTION:
URL:https://www.lincolnshirefreemasons.org/event/astral-lodge-no-3841/2026-04-17/
LOCATION:Grimsby\, Masonic Hall\, Cambridge Road\, Grimsby
CATEGORIES:Calendar
END:VEVENT
BEGIN:VEVENT
DTSTART;VALUE=DATE:20260509
DTEND;VALUE=DATE:20260510
DTSTAMP:20260424T001752
CREATED:20190301T092135Z
LAST-MODIFIED:20190301T092135Z
UID:21871-1778284800-1778371199@www.lincolnshirefreemasons.org
SUMMARY:Daedalus Lodge No 3843
DESCRIPTION:
URL:https://www.lincolnshirefreemasons.org/event/daedalus-lodge-no-3843/2026-05-09/
LOCATION:Sleaford\, Watergate\, Sleaford
CATEGORIES:Calendar
END:VEVENT
BEGIN:VEVENT
DTSTART;VALUE=DATE:20270113
DTEND;VALUE=DATE:20270114
DTSTAMP:20260424T001752
CREATED:20190301T092437Z
LAST-MODIFIED:20190301T092437Z
UID:23995-1799798400-1799884799@www.lincolnshirefreemasons.org
SUMMARY:Paulinus Lodge No 3957
DESCRIPTION:
URL:https://www.lincolnshirefreemasons.org/event/paulinus-lodge-no-3957/2027-01-13/
LOCATION:Lincoln\, 116 Nettleham Road\, Lincoln\, LN2 1RR
CATEGORIES:Calendar
END:VEVENT
BEGIN:VEVENT
DTSTART;VALUE=DATE:20260401
DTEND;VALUE=DATE:20260402
DTSTAMP:20260424T001752
CREATED:20190301T094156Z
LAST-MODIFIED:20190301T094156Z
UID:20081-1775001600-1775087999@www.lincolnshirefreemasons.org
SUMMARY:St. Clement Lodge No 4300
DESCRIPTION:
URL:https://www.lincolnshirefreemasons.org/event/st-clement-lodge-no-4300/2026-04-01/
LOCATION:Skegness\, Holly Road\,\, Skegness
CATEGORIES:Calendar
END:VEVENT
BEGIN:VEVENT
DTSTART;VALUE=DATE:20260328
DTEND;VALUE=DATE:20260329
DTSTAMP:20260424T001752
CREATED:20190301T094640Z
LAST-MODIFIED:20190301T094640Z
UID:20054-1774656000-1774742399@www.lincolnshirefreemasons.org
SUMMARY:Industry Lodge No 4662
DESCRIPTION:
URL:https://www.lincolnshirefreemasons.org/event/industry-lodge-no-4662/2026-03-28/
LOCATION:Scunthorpe\, Normanby Road\, Scunthorpe
CATEGORIES:Calendar
END:VEVENT
BEGIN:VEVENT
DTSTART;VALUE=DATE:20250912
DTEND;VALUE=DATE:20250913
DTSTAMP:20260424T001752
CREATED:20190301T095022Z
LAST-MODIFIED:20250903T085810Z
UID:21361-1757635200-1757721599@www.lincolnshirefreemasons.org
SUMMARY:Lindsey Lodge No 712
DESCRIPTION:
URL:https://www.lincolnshirefreemasons.org/event/lindis-lodge-no-4690-2026-08-14/2025-09-12/
LOCATION:Louth\, The Masonic Centre\, Bolingbroke Road\, Fairfield Industrial Estate\, Louth\, LN11 0WA
CATEGORIES:Calendar
END:VEVENT
BEGIN:VEVENT
DTSTART;VALUE=DATE:20260409
DTEND;VALUE=DATE:20260410
DTSTAMP:20260424T001752
CREATED:20190301T095510Z
LAST-MODIFIED:20190301T095510Z
UID:20177-1775692800-1775779199@www.lincolnshirefreemasons.org
SUMMARY:The Granta Lodge No 4950
DESCRIPTION:
URL:https://www.lincolnshirefreemasons.org/event/the-granta-lodge-no-4950/2026-04-09/
LOCATION:Grantham\, Chambers Street\, Grantham
CATEGORIES:Calendar
END:VEVENT
BEGIN:VEVENT
DTSTART;VALUE=DATE:20260323
DTEND;VALUE=DATE:20260324
DTSTAMP:20260424T001752
CREATED:20190301T100358Z
LAST-MODIFIED:20190301T100358Z
UID:20012-1774224000-1774310399@www.lincolnshirefreemasons.org
SUMMARY:Gainas Lodge No 5121
DESCRIPTION:
URL:https://www.lincolnshirefreemasons.org/event/gainas-lodge-no-5121/2026-03-23/
LOCATION:Gainsborough\, 32 North Marsh Road\, Gainsborough
CATEGORIES:Calendar
END:VEVENT
BEGIN:VEVENT
DTSTART;VALUE=DATE:20260326
DTEND;VALUE=DATE:20260327
DTSTAMP:20260424T001752
CREATED:20190301T102627Z
LAST-MODIFIED:20190301T102627Z
UID:20026-1774483200-1774569599@www.lincolnshirefreemasons.org
SUMMARY:Ashlar Lodge No 5219
DESCRIPTION:
URL:https://www.lincolnshirefreemasons.org/event/ashlar-lodge-no-5219/2026-03-26/
LOCATION:Lincoln\, 116 Nettleham Road\, Lincoln\, LN2 1RR
CATEGORIES:Calendar
END:VEVENT
BEGIN:VEVENT
DTSTART;VALUE=DATE:20260421
DTEND;VALUE=DATE:20260422
DTSTAMP:20260424T001752
CREATED:20190301T102809Z
LAST-MODIFIED:20190301T102809Z
UID:20333-1776729600-1776815999@www.lincolnshirefreemasons.org
SUMMARY:Apollo Lodge No 5471
DESCRIPTION:
URL:https://www.lincolnshirefreemasons.org/event/apollo-lodge-no-5471/2026-04-21/
LOCATION:Cleethorpes\, 1 Kings Road\, Cleethorpes
CATEGORIES:Calendar
END:VEVENT
BEGIN:VEVENT
DTSTART;VALUE=DATE:20260417
DTEND;VALUE=DATE:20260418
DTSTAMP:20260424T001752
CREATED:20190301T103050Z
LAST-MODIFIED:20190301T103050Z
UID:20280-1776384000-1776470399@www.lincolnshirefreemasons.org
SUMMARY:Shire Lodge No 5610
DESCRIPTION:
URL:https://www.lincolnshirefreemasons.org/event/shire-lodge-no-5610/2026-04-17/
LOCATION:Sleaford\, Watergate\, Sleaford
CATEGORIES:Calendar
END:VEVENT
BEGIN:VEVENT
DTSTART;VALUE=DATE:20260414
DTEND;VALUE=DATE:20260415
DTSTAMP:20260424T001752
CREATED:20190301T112405Z
LAST-MODIFIED:20190301T112405Z
UID:20237-1776124800-1776211199@www.lincolnshirefreemasons.org
SUMMARY:Lindum Lodge No 5777
DESCRIPTION:
URL:https://www.lincolnshirefreemasons.org/event/lindum-lodge-no-5777/2026-04-14/
LOCATION:Lincoln\, 116 Nettleham Road\, Lincoln\, LN2 1RR
CATEGORIES:Calendar
END:VEVENT
BEGIN:VEVENT
DTSTART;VALUE=DATE:20260327
DTEND;VALUE=DATE:20260328
DTSTAMP:20260424T001752
CREATED:20190301T112926Z
LAST-MODIFIED:20190301T112926Z
UID:20042-1774569600-1774655999@www.lincolnshirefreemasons.org
SUMMARY:Lord Heneage Lodge No 5979
DESCRIPTION:
URL:https://www.lincolnshirefreemasons.org/event/lord-heneage-lodge-no-5979/2026-03-27/
LOCATION:Grimsby\, Masonic Hall\, Cambridge Road\, Grimsby
CATEGORIES:Calendar
END:VEVENT
BEGIN:VEVENT
DTSTART;VALUE=DATE:20260519
DTEND;VALUE=DATE:20260520
DTSTAMP:20260424T001752
CREATED:20190301T113135Z
LAST-MODIFIED:20190301T113135Z
UID:22141-1779148800-1779235199@www.lincolnshirefreemasons.org
SUMMARY:William Peters Lodge No 6761
DESCRIPTION:
URL:https://www.lincolnshirefreemasons.org/event/william-peters-lodge-no-6761/2026-05-19/
LOCATION:Grantham\, Chambers Street\, Grantham
CATEGORIES:Calendar
END:VEVENT
BEGIN:VEVENT
DTSTART;VALUE=DATE:20260420
DTEND;VALUE=DATE:20260421
DTSTAMP:20260424T001752
CREATED:20190301T113610Z
LAST-MODIFIED:20190301T113610Z
UID:20319-1776643200-1776729599@www.lincolnshirefreemasons.org
SUMMARY:Hermes Lodge No 6861
DESCRIPTION:
URL:https://www.lincolnshirefreemasons.org/event/hermes-lodge-no-6861/2026-04-20/
LOCATION:Louth\, The Masonic Centre\, Bolingbroke Road\, Fairfield Industrial Estate\, Louth\, LN11 0WA
CATEGORIES:Calendar
END:VEVENT
BEGIN:VEVENT
DTSTART;VALUE=DATE:20260421
DTEND;VALUE=DATE:20260422
DTSTAMP:20260424T001752
CREATED:20190301T124905Z
LAST-MODIFIED:20190301T124905Z
UID:20332-1776729600-1776815999@www.lincolnshirefreemasons.org
SUMMARY:Saint James Lodge No 7415
DESCRIPTION:
URL:https://www.lincolnshirefreemasons.org/event/saint-james-lodge-no-7415/2026-04-21/
LOCATION:Grimsby\, Masonic Hall\, Cambridge Road\, Grimsby
CATEGORIES:Calendar
END:VEVENT
BEGIN:VEVENT
DTSTART;VALUE=DATE:20260406
DTEND;VALUE=DATE:20260407
DTSTAMP:20260424T001752
CREATED:20190301T125119Z
LAST-MODIFIED:20190301T125119Z
UID:20120-1775433600-1775519999@www.lincolnshirefreemasons.org
SUMMARY:St. Godric Lodge No 7517
DESCRIPTION:
URL:https://www.lincolnshirefreemasons.org/event/st-godric-lodge-no-7517/2026-04-06/
LOCATION:Spalding\, Pinchbeck Road\, Spalding
CATEGORIES:Calendar
END:VEVENT
BEGIN:VEVENT
DTSTART;VALUE=DATE:20260327
DTEND;VALUE=DATE:20260328
DTSTAMP:20260424T001752
CREATED:20190301T125415Z
LAST-MODIFIED:20190301T125415Z
UID:20024-1774569600-1774655999@www.lincolnshirefreemasons.org
SUMMARY:St. Peter Lodge No 7648
DESCRIPTION:
URL:https://www.lincolnshirefreemasons.org/event/st-peter-lodge-no-7648/2026-03-27/
LOCATION:Cleethorpes\, 1 Kings Road\, Cleethorpes
CATEGORIES:Calendar
END:VEVENT
BEGIN:VEVENT
DTSTART;VALUE=DATE:20260331
DTEND;VALUE=DATE:20260401
DTSTAMP:20260424T001752
CREATED:20190301T125600Z
LAST-MODIFIED:20190301T125600Z
UID:20074-1774915200-1775001599@www.lincolnshirefreemasons.org
SUMMARY:Lodge of St John No 7840
DESCRIPTION:
URL:https://www.lincolnshirefreemasons.org/event/lodge-of-st-john-no-7840/2026-03-31/
LOCATION:Scunthorpe\, Normanby Road\, Scunthorpe
CATEGORIES:Calendar
END:VEVENT
BEGIN:VEVENT
DTSTART;VALUE=DATE:20260420
DTEND;VALUE=DATE:20260421
DTSTAMP:20260424T001752
CREATED:20190301T125842Z
LAST-MODIFIED:20190301T125842Z
UID:20318-1776643200-1776729599@www.lincolnshirefreemasons.org
SUMMARY:Saint Mary Lodge No 7898
DESCRIPTION:
URL:https://www.lincolnshirefreemasons.org/event/saint-mary-lodge-no-7898/2026-04-20/
LOCATION:Long Sutton\, Park Lane\, Long Sutton
CATEGORIES:Calendar
END:VEVENT
BEGIN:VEVENT
DTSTART;VALUE=DATE:20260401
DTEND;VALUE=DATE:20260402
DTSTAMP:20260424T001752
CREATED:20190301T130107Z
LAST-MODIFIED:20190301T130107Z
UID:20082-1775001600-1775087999@www.lincolnshirefreemasons.org
SUMMARY:Temple Belwood Lodge No 8073
DESCRIPTION:
URL:https://www.lincolnshirefreemasons.org/event/temple-belwood-lodge-no-8073/2026-04-01/
LOCATION:Crowle\, Park View\, Crowle
CATEGORIES:Calendar
END:VEVENT
BEGIN:VEVENT
DTSTART;VALUE=DATE:20260416
DTEND;VALUE=DATE:20260417
DTSTAMP:20260424T001752
CREATED:20190301T130631Z
LAST-MODIFIED:20190301T130631Z
UID:20269-1776297600-1776383999@www.lincolnshirefreemasons.org
SUMMARY:Bolingbroke Castle Lodge No 8173
DESCRIPTION:
URL:https://www.lincolnshirefreemasons.org/event/bolingbroke-castle-lodge-no-8173/2026-04-16/
LOCATION:Horncastle\, Banks Street\, Horncastle
CATEGORIES:Calendar
END:VEVENT
BEGIN:VEVENT
DTSTART;VALUE=DATE:20260421
DTEND;VALUE=DATE:20260422
DTSTAMP:20260424T001752
CREATED:20190301T130954Z
LAST-MODIFIED:20190301T130954Z
UID:20330-1776729600-1776815999@www.lincolnshirefreemasons.org
SUMMARY:The Round Table Lodge of Lincolnshire No 8240
DESCRIPTION:
URL:https://www.lincolnshirefreemasons.org/event/the-round-table-lodge-of-lincolnshire-no-8240/2026-04-21/
LOCATION:Horncastle\, Banks Street\, Horncastle
CATEGORIES:Calendar
END:VEVENT
BEGIN:VEVENT
DTSTART;VALUE=DATE:20260324
DTEND;VALUE=DATE:20260325
DTSTAMP:20260424T001752
CREATED:20190301T131217Z
LAST-MODIFIED:20190301T131217Z
UID:20018-1774310400-1774396799@www.lincolnshirefreemasons.org
SUMMARY:St. Pega Lodge No 8317
DESCRIPTION:
URL:https://www.lincolnshirefreemasons.org/event/st-pega-lodge-no-8317/2026-03-24/
LOCATION:Deeping St. James\, 96 Bridge Street\, Deeping St. James\, PE6 8HA\, United Kingdom
CATEGORIES:Calendar
END:VEVENT
BEGIN:VEVENT
DTSTART;VALUE=DATE:20260414
DTEND;VALUE=DATE:20260415
DTSTAMP:20260424T001752
CREATED:20190301T131550Z
LAST-MODIFIED:20190301T131550Z
UID:20239-1776124800-1776211199@www.lincolnshirefreemasons.org
SUMMARY:Eccles Lodge No 8632
DESCRIPTION:
URL:https://www.lincolnshirefreemasons.org/event/eccles-lodge-no-8632/2026-04-14/
LOCATION:Spilsby\, Halton Road\, Spilsby
CATEGORIES:Calendar
END:VEVENT
BEGIN:VEVENT
DTSTART;VALUE=DATE:20260415
DTEND;VALUE=DATE:20260416
DTSTAMP:20260424T001752
CREATED:20190301T135207Z
LAST-MODIFIED:20190301T135207Z
UID:20243-1776211200-1776297599@www.lincolnshirefreemasons.org
SUMMARY:Lodge of Old Clee No 8697
DESCRIPTION:
URL:https://www.lincolnshirefreemasons.org/event/lodge-of-old-clee-no-8697/2026-04-15/
LOCATION:Cleethorpes\, 1 Kings Road\, Cleethorpes
CATEGORIES:Calendar
END:VEVENT
BEGIN:VEVENT
DTSTART;VALUE=DATE:20260521
DTEND;VALUE=DATE:20260522
DTSTAMP:20260424T001752
CREATED:20190301T135405Z
LAST-MODIFIED:20190301T135405Z
UID:20648-1779321600-1779407999@www.lincolnshirefreemasons.org
SUMMARY:Minster Lodge No 8702
DESCRIPTION:
URL:https://www.lincolnshirefreemasons.org/event/minster-lodge-no-8702/2026-05-21/
LOCATION:Lincoln\, 116 Nettleham Road\, Lincoln\, LN2 1RR
CATEGORIES:Calendar
END:VEVENT
BEGIN:VEVENT
DTSTART;VALUE=DATE:20260326
DTEND;VALUE=DATE:20260327
DTSTAMP:20260424T001752
CREATED:20190301T135532Z
LAST-MODIFIED:20190301T135532Z
UID:20029-1774483200-1774569599@www.lincolnshirefreemasons.org
SUMMARY:Pilgrim Fathers Lodge No 8795
DESCRIPTION:
URL:https://www.lincolnshirefreemasons.org/event/pilgrim-fathers-lodge-no-8795/2026-03-26/
LOCATION:Boston\, Main Ridge West\, Boston
CATEGORIES:Calendar
END:VEVENT
BEGIN:VEVENT
DTSTART;VALUE=DATE:20260413
DTEND;VALUE=DATE:20260414
DTSTAMP:20260424T001752
CREATED:20190301T135656Z
LAST-MODIFIED:20190301T135656Z
UID:20227-1776038400-1776124799@www.lincolnshirefreemasons.org
SUMMARY:Wellow Abbey Lodge No 8819
DESCRIPTION:
URL:https://www.lincolnshirefreemasons.org/event/wellow-abbey-lodge-no-8819/2026-04-13/
LOCATION:Grimsby\, Masonic Hall\, Cambridge Road\, Grimsby
CATEGORIES:Calendar
END:VEVENT
END:VCALENDAR