BEGIN:VCALENDAR
VERSION:2.0
PRODID:-//Provincial Grand Lodge of Lincolnshire - ECPv5.8.2//NONSGML v1.0//EN
CALSCALE:GREGORIAN
METHOD:PUBLISH
X-WR-CALNAME:Provincial Grand Lodge of Lincolnshire
X-ORIGINAL-URL:https://www.lincolnshirefreemasons.org
X-WR-CALDESC:Events for Provincial Grand Lodge of Lincolnshire
BEGIN:VTIMEZONE
TZID:UTC
BEGIN:STANDARD
TZOFFSETFROM:+0000
TZOFFSETTO:+0000
TZNAME:UTC
DTSTART:20260101T000000
END:STANDARD
TZID:Europe/London
BEGIN:DAYLIGHT
TZOFFSETFROM:+0000
TZOFFSETTO:+0100
TZNAME:BST
DTSTART:20260329T010000
END:DAYLIGHT
BEGIN:STANDARD
TZOFFSETFROM:+0100
TZOFFSETTO:+0000
TZNAME:GMT
DTSTART:20261025T010000
END:STANDARD
END:VTIMEZONE
BEGIN:VEVENT
DTSTART;VALUE=DATE:20260518
DTEND;VALUE=DATE:20260519
DTSTAMP:20260423T211545
CREATED:20190301T113610Z
LAST-MODIFIED:20190301T113610Z
UID:20601-1779062400-1779148799@www.lincolnshirefreemasons.org
SUMMARY:Hermes Lodge No 6861
DESCRIPTION:
URL:https://www.lincolnshirefreemasons.org/event/hermes-lodge-no-6861/2026-05-18/
LOCATION:Louth\, The Masonic Centre\, Bolingbroke Road\, Fairfield Industrial Estate\, Louth\, LN11 0WA
CATEGORIES:Calendar
END:VEVENT
BEGIN:VEVENT
DTSTART;VALUE=DATE:20260519
DTEND;VALUE=DATE:20260520
DTSTAMP:20260423T211545
CREATED:20190301T124905Z
LAST-MODIFIED:20190301T124905Z
UID:20613-1779148800-1779235199@www.lincolnshirefreemasons.org
SUMMARY:Saint James Lodge No 7415
DESCRIPTION:
URL:https://www.lincolnshirefreemasons.org/event/saint-james-lodge-no-7415/2026-05-19/
LOCATION:Grimsby\, Masonic Hall\, Cambridge Road\, Grimsby
CATEGORIES:Calendar
END:VEVENT
BEGIN:VEVENT
DTSTART;VALUE=DATE:20260504
DTEND;VALUE=DATE:20260505
DTSTAMP:20260423T211545
CREATED:20190301T125119Z
LAST-MODIFIED:20190301T125119Z
UID:20431-1777852800-1777939199@www.lincolnshirefreemasons.org
SUMMARY:St. Godric Lodge No 7517
DESCRIPTION:
URL:https://www.lincolnshirefreemasons.org/event/st-godric-lodge-no-7517/2026-05-04/
LOCATION:Spalding\, Pinchbeck Road\, Spalding
CATEGORIES:Calendar
END:VEVENT
BEGIN:VEVENT
DTSTART;VALUE=DATE:20270319
DTEND;VALUE=DATE:20270320
DTSTAMP:20260423T211545
CREATED:20190301T125415Z
LAST-MODIFIED:20190301T125415Z
UID:24659-1805414400-1805500799@www.lincolnshirefreemasons.org
SUMMARY:St. Peter Lodge No 7648
DESCRIPTION:
URL:https://www.lincolnshirefreemasons.org/event/st-peter-lodge-no-7648/2027-03-19/
LOCATION:Cleethorpes\, 1 Kings Road\, Cleethorpes
CATEGORIES:Calendar
END:VEVENT
BEGIN:VEVENT
DTSTART;VALUE=DATE:20260428
DTEND;VALUE=DATE:20260429
DTSTAMP:20260423T211545
CREATED:20190301T125600Z
LAST-MODIFIED:20190301T125600Z
UID:20386-1777334400-1777420799@www.lincolnshirefreemasons.org
SUMMARY:Lodge of St John No 7840
DESCRIPTION:
URL:https://www.lincolnshirefreemasons.org/event/lodge-of-st-john-no-7840/2026-04-28/
LOCATION:Scunthorpe\, Normanby Road\, Scunthorpe
CATEGORIES:Calendar
END:VEVENT
BEGIN:VEVENT
DTSTART;VALUE=DATE:20260518
DTEND;VALUE=DATE:20260519
DTSTAMP:20260423T211545
CREATED:20190301T125842Z
LAST-MODIFIED:20190301T125842Z
UID:20600-1779062400-1779148799@www.lincolnshirefreemasons.org
SUMMARY:Saint Mary Lodge No 7898
DESCRIPTION:
URL:https://www.lincolnshirefreemasons.org/event/saint-mary-lodge-no-7898/2026-05-18/
LOCATION:Long Sutton\, Park Lane\, Long Sutton
CATEGORIES:Calendar
END:VEVENT
BEGIN:VEVENT
DTSTART;VALUE=DATE:20260506
DTEND;VALUE=DATE:20260507
DTSTAMP:20260423T211545
CREATED:20190301T130107Z
LAST-MODIFIED:20190301T130107Z
UID:20443-1778025600-1778111999@www.lincolnshirefreemasons.org
SUMMARY:Temple Belwood Lodge No 8073
DESCRIPTION:
URL:https://www.lincolnshirefreemasons.org/event/temple-belwood-lodge-no-8073/2026-05-06/
LOCATION:Crowle\, Park View\, Crowle
CATEGORIES:Calendar
END:VEVENT
BEGIN:VEVENT
DTSTART;VALUE=DATE:20260521
DTEND;VALUE=DATE:20260522
DTSTAMP:20260423T211545
CREATED:20190301T130631Z
LAST-MODIFIED:20190301T130631Z
UID:20649-1779321600-1779407999@www.lincolnshirefreemasons.org
SUMMARY:Bolingbroke Castle Lodge No 8173
DESCRIPTION:
URL:https://www.lincolnshirefreemasons.org/event/bolingbroke-castle-lodge-no-8173/2026-05-21/
LOCATION:Horncastle\, Banks Street\, Horncastle
CATEGORIES:Calendar
END:VEVENT
BEGIN:VEVENT
DTSTART;VALUE=DATE:20260519
DTEND;VALUE=DATE:20260520
DTSTAMP:20260423T211545
CREATED:20190301T130954Z
LAST-MODIFIED:20190301T130954Z
UID:20612-1779148800-1779235199@www.lincolnshirefreemasons.org
SUMMARY:The Round Table Lodge of Lincolnshire No 8240
DESCRIPTION:
URL:https://www.lincolnshirefreemasons.org/event/the-round-table-lodge-of-lincolnshire-no-8240/2026-05-19/
LOCATION:Horncastle\, Banks Street\, Horncastle
CATEGORIES:Calendar
END:VEVENT
BEGIN:VEVENT
DTSTART;VALUE=DATE:20260428
DTEND;VALUE=DATE:20260429
DTSTAMP:20260423T211545
CREATED:20190301T131217Z
LAST-MODIFIED:20190301T131217Z
UID:20384-1777334400-1777420799@www.lincolnshirefreemasons.org
SUMMARY:St. Pega Lodge No 8317
DESCRIPTION:
URL:https://www.lincolnshirefreemasons.org/event/st-pega-lodge-no-8317/2026-04-28/
LOCATION:Deeping St. James\, 96 Bridge Street\, Deeping St. James\, PE6 8HA\, United Kingdom
CATEGORIES:Calendar
END:VEVENT
BEGIN:VEVENT
DTSTART;VALUE=DATE:20260512
DTEND;VALUE=DATE:20260513
DTSTAMP:20260423T211545
CREATED:20190301T131550Z
LAST-MODIFIED:20190301T131550Z
UID:20534-1778544000-1778630399@www.lincolnshirefreemasons.org
SUMMARY:Eccles Lodge No 8632
DESCRIPTION:
URL:https://www.lincolnshirefreemasons.org/event/eccles-lodge-no-8632/2026-05-12/
LOCATION:Spilsby\, Halton Road\, Spilsby
CATEGORIES:Calendar
END:VEVENT
BEGIN:VEVENT
DTSTART;VALUE=DATE:20260916
DTEND;VALUE=DATE:20260917
DTSTAMP:20260423T211545
CREATED:20190301T135207Z
LAST-MODIFIED:20190301T135207Z
UID:22036-1789516800-1789603199@www.lincolnshirefreemasons.org
SUMMARY:Lodge of Old Clee No 8697
DESCRIPTION:
URL:https://www.lincolnshirefreemasons.org/event/lodge-of-old-clee-no-8697/2026-09-16/
LOCATION:Cleethorpes\, 1 Kings Road\, Cleethorpes
CATEGORIES:Calendar
END:VEVENT
BEGIN:VEVENT
DTSTART;VALUE=DATE:20260521
DTEND;VALUE=DATE:20260522
DTSTAMP:20260423T211545
CREATED:20190301T135405Z
LAST-MODIFIED:20190301T135405Z
UID:20648-1779321600-1779407999@www.lincolnshirefreemasons.org
SUMMARY:Minster Lodge No 8702
DESCRIPTION:
URL:https://www.lincolnshirefreemasons.org/event/minster-lodge-no-8702/2026-05-21/
LOCATION:Lincoln\, 116 Nettleham Road\, Lincoln\, LN2 1RR
CATEGORIES:Calendar
END:VEVENT
BEGIN:VEVENT
DTSTART;VALUE=DATE:20260423
DTEND;VALUE=DATE:20260424
DTSTAMP:20260423T211545
CREATED:20190301T135532Z
LAST-MODIFIED:20190301T135532Z
UID:20355-1776902400-1776988799@www.lincolnshirefreemasons.org
SUMMARY:Pilgrim Fathers Lodge No 8795
DESCRIPTION:
URL:https://www.lincolnshirefreemasons.org/event/pilgrim-fathers-lodge-no-8795/2026-04-23/
LOCATION:Boston\, Main Ridge West\, Boston
CATEGORIES:Calendar
END:VEVENT
BEGIN:VEVENT
DTSTART;VALUE=DATE:20260511
DTEND;VALUE=DATE:20260512
DTSTAMP:20260423T211545
CREATED:20190301T135656Z
LAST-MODIFIED:20190301T135656Z
UID:20520-1778457600-1778543999@www.lincolnshirefreemasons.org
SUMMARY:Wellow Abbey Lodge No 8819
DESCRIPTION:
URL:https://www.lincolnshirefreemasons.org/event/wellow-abbey-lodge-no-8819/2026-05-11/
LOCATION:Grimsby\, Masonic Hall\, Cambridge Road\, Grimsby
CATEGORIES:Calendar
END:VEVENT
BEGIN:VEVENT
DTSTART;VALUE=DATE:20260603
DTEND;VALUE=DATE:20260604
DTSTAMP:20260423T211545
CREATED:20190301T135921Z
LAST-MODIFIED:20190301T135921Z
UID:20763-1780444800-1780531199@www.lincolnshirefreemasons.org
SUMMARY:St. Denys' Lodge No 9032
DESCRIPTION:
URL:https://www.lincolnshirefreemasons.org/event/st-denys-lodge-no-9032/2026-06-03/
LOCATION:Sleaford\, Watergate\, Sleaford
CATEGORIES:Calendar
END:VEVENT
BEGIN:VEVENT
DTSTART;VALUE=DATE:20261014
DTEND;VALUE=DATE:20261015
DTSTAMP:20260423T211545
CREATED:20190301T140206Z
LAST-MODIFIED:20190301T140206Z
UID:22508-1791936000-1792022399@www.lincolnshirefreemasons.org
SUMMARY:Lodge of Aveland No 9060
DESCRIPTION:
URL:https://www.lincolnshirefreemasons.org/event/lodge-of-aveland-no-9060/2026-10-14/
LOCATION:Bourne\, Roman Bank\, Bourne\, PE10 9LQ
CATEGORIES:Calendar
END:VEVENT
BEGIN:VEVENT
DTSTART;VALUE=DATE:20260629
DTEND;VALUE=DATE:20260630
DTSTAMP:20260423T211545
CREATED:20190301T140433Z
LAST-MODIFIED:20190301T140433Z
UID:20951-1782691200-1782777599@www.lincolnshirefreemasons.org
SUMMARY:Lincolnshire Bicentenary Lodge of Installed Masters No 9467
DESCRIPTION:
URL:https://www.lincolnshirefreemasons.org/event/lincolnshire-bicentenary-lodge-of-installed-masters-no-9467/2026-06-29/
LOCATION:Horncastle\, Banks Street\, Horncastle
CATEGORIES:Calendar
END:VEVENT
BEGIN:VEVENT
DTSTART;VALUE=DATE:20260917
DTEND;VALUE=DATE:20260918
DTSTAMP:20260423T211545
CREATED:20190301T140616Z
LAST-MODIFIED:20190301T140616Z
UID:22047-1789603200-1789689599@www.lincolnshirefreemasons.org
SUMMARY:Vermuyden Lodge No 9482
DESCRIPTION:
URL:https://www.lincolnshirefreemasons.org/event/vermuyden-lodge-no-9482/2026-09-17/
LOCATION:Crowle\, Park View\, Crowle
CATEGORIES:Calendar
END:VEVENT
BEGIN:VEVENT
DTSTART;VALUE=DATE:20261028
DTEND;VALUE=DATE:20261029
DTSTAMP:20260423T211545
CREATED:20190301T140944Z
LAST-MODIFIED:20190301T140944Z
UID:22686-1793145600-1793231999@www.lincolnshirefreemasons.org
SUMMARY:Welland Lodge No 9556
DESCRIPTION:
URL:https://www.lincolnshirefreemasons.org/event/welland-lodge-no-9556/2026-10-28/
LOCATION:Spalding\, Pinchbeck Road\, Spalding
CATEGORIES:Calendar
END:VEVENT
BEGIN:VEVENT
DTSTART;VALUE=DATE:20260509
DTEND;VALUE=DATE:20260510
DTSTAMP:20260423T211545
CREATED:20190301T141145Z
LAST-MODIFIED:20190301T141145Z
UID:20479-1778284800-1778371199@www.lincolnshirefreemasons.org
SUMMARY:Rudyard Kipling Lodge No 9681
DESCRIPTION:
URL:https://www.lincolnshirefreemasons.org/event/rudyard-kipling-lodge-no-9681/2026-05-09/
LOCATION:Horncastle\, Banks Street\, Horncastle
END:VEVENT
BEGIN:VEVENT
DTSTART;VALUE=DATE:20260611
DTEND;VALUE=DATE:20260612
DTSTAMP:20260423T211545
CREATED:20190301T141339Z
LAST-MODIFIED:20190301T141339Z
UID:20807-1781136000-1781222399@www.lincolnshirefreemasons.org
SUMMARY:Lincolnshire Provincial Grand Stewards Lodge No 9726
DESCRIPTION:
URL:https://www.lincolnshirefreemasons.org/event/lincolnshire-provincial-grand-stewards-lodge-no-9726/2026-06-11/
LOCATION:Horncastle\, Banks Street\, Horncastle
CATEGORIES:Calendar
END:VEVENT
BEGIN:VEVENT
DTSTART;VALUE=DATE:20260504
DTEND;VALUE=DATE:20260505
DTSTAMP:20260423T211545
CREATED:20190301T141545Z
LAST-MODIFIED:20190301T141545Z
UID:20589-1777852800-1777939199@www.lincolnshirefreemasons.org
SUMMARY:Daylight Lodge No 9748
DESCRIPTION:
URL:https://www.lincolnshirefreemasons.org/event/daylight-lodge-no-9748/2026-05-04/
LOCATION:Louth\, The Masonic Centre\, Bolingbroke Road\, Fairfield Industrial Estate\, Louth\, LN11 0WA
CATEGORIES:Calendar
END:VEVENT
BEGIN:VEVENT
DTSTART;VALUE=DATE:20260514
DTEND;VALUE=DATE:20260515
DTSTAMP:20260423T211545
CREATED:20190301T141758Z
LAST-MODIFIED:20190301T141758Z
UID:20548-1778716800-1778803199@www.lincolnshirefreemasons.org
SUMMARY:Glanford Vale Lodge No 9769
DESCRIPTION:
URL:https://www.lincolnshirefreemasons.org/event/glanford-vale-lodge-no-9769/2026-05-14/
LOCATION:Brigg\, Cary Lane\, Brigg
CATEGORIES:Calendar
END:VEVENT
BEGIN:VEVENT
DTSTART;VALUE=DATE:20261009
DTEND;VALUE=DATE:20261010
DTSTAMP:20260423T211545
CREATED:20190301T142119Z
LAST-MODIFIED:20190301T142119Z
UID:22443-1791504000-1791590399@www.lincolnshirefreemasons.org
SUMMARY:Meridian Daylight Lodge No 9813
DESCRIPTION:
URL:https://www.lincolnshirefreemasons.org/event/meridian-daylight-lodge-no-9813/2026-10-09/
LOCATION:Grantham\, Chambers Street\, Grantham
CATEGORIES:Calendar
END:VEVENT
BEGIN:VEVENT
DTSTART;VALUE=DATE:20260617
DTEND;VALUE=DATE:20260618
DTSTAMP:20260423T211545
CREATED:20190301T142245Z
LAST-MODIFIED:20190301T142245Z
UID:20864-1781654400-1781740799@www.lincolnshirefreemasons.org
SUMMARY:Fenland Daylight Lodge No 9825
DESCRIPTION:
URL:https://www.lincolnshirefreemasons.org/event/fenland-daylight-lodge-no-9825/2026-06-17/
LOCATION:Long Sutton\, Park Lane\, Long Sutton
CATEGORIES:Calendar
END:VEVENT
BEGIN:VEVENT
DTSTART;VALUE=DATE:20260602
DTEND;VALUE=DATE:20260603
DTSTAMP:20260423T211545
CREATED:20190301T142508Z
LAST-MODIFIED:20190301T142508Z
UID:20761-1780358400-1780444799@www.lincolnshirefreemasons.org
SUMMARY:Lodge of Established Order No 9822
DESCRIPTION:
URL:https://www.lincolnshirefreemasons.org/event/lodge-of-established-order-no-9822/2026-06-02/
LOCATION:Barton Upon Humber\, Brigg Road\, Barton Upon Humber
CATEGORIES:Calendar
END:VEVENT
BEGIN:VEVENT
DTSTART;VALUE=DATE:20261014
DTEND;VALUE=DATE:20261015
DTSTAMP:20260423T211545
CREATED:20190301T142654Z
LAST-MODIFIED:20190301T142654Z
UID:22507-1791936000-1792022399@www.lincolnshirefreemasons.org
SUMMARY:Sir Joseph Banks Daylight Lodge No 9828
DESCRIPTION:
URL:https://www.lincolnshirefreemasons.org/event/sir-joseph-banks-daylight-lodge-no-9828/2026-10-14/
LOCATION:Horncastle\, Banks Street\, Horncastle
CATEGORIES:Calendar
END:VEVENT
BEGIN:VEVENT
DTSTART;VALUE=DATE:20261019
DTEND;VALUE=DATE:20261020
DTSTAMP:20260423T211545
CREATED:20190313T174407Z
LAST-MODIFIED:20190313T174407Z
UID:22585-1792368000-1792454399@www.lincolnshirefreemasons.org
SUMMARY:St. Botolph’s Royal Arch Chapter No 272
DESCRIPTION:
URL:https://www.lincolnshirefreemasons.org/event/st-botolphs-royal-arch-chapter-no-272-2/2026-10-19/
CATEGORIES:Calendar,Chapter
END:VEVENT
BEGIN:VEVENT
DTSTART;VALUE=DATE:20260520
DTEND;VALUE=DATE:20260521
DTSTAMP:20260423T211545
CREATED:20190331T234738Z
LAST-MODIFIED:20190331T234738Z
UID:20645-1779235200-1779321599@www.lincolnshirefreemasons.org
SUMMARY:Pharos Lodge No 6450
DESCRIPTION:
URL:https://www.lincolnshirefreemasons.org/event/pharos-lodge-no-6450/2026-05-20/
LOCATION:Scunthorpe\, Normanby Road\, Scunthorpe
CATEGORIES:Calendar
END:VEVENT
END:VCALENDAR