BEGIN:VCALENDAR
VERSION:2.0
PRODID:-//Provincial Grand Lodge of Lincolnshire - ECPv5.8.2//NONSGML v1.0//EN
CALSCALE:GREGORIAN
METHOD:PUBLISH
X-WR-CALNAME:Provincial Grand Lodge of Lincolnshire
X-ORIGINAL-URL:https://www.lincolnshirefreemasons.org
X-WR-CALDESC:Events for Provincial Grand Lodge of Lincolnshire
BEGIN:VTIMEZONE
TZID:UTC
BEGIN:STANDARD
TZOFFSETFROM:+0000
TZOFFSETTO:+0000
TZNAME:UTC
DTSTART:20270101T000000
END:STANDARD
TZID:Europe/London
BEGIN:DAYLIGHT
TZOFFSETFROM:+0000
TZOFFSETTO:+0100
TZNAME:BST
DTSTART:20270328T010000
END:DAYLIGHT
BEGIN:STANDARD
TZOFFSETFROM:+0100
TZOFFSETTO:+0000
TZNAME:GMT
DTSTART:20271031T010000
END:STANDARD
END:VTIMEZONE
BEGIN:VEVENT
DTSTART;VALUE=DATE:20270409
DTEND;VALUE=DATE:20270410
DTSTAMP:20260424T055953
CREATED:20190301T142119Z
LAST-MODIFIED:20190301T142119Z
UID:24830-1807228800-1807315199@www.lincolnshirefreemasons.org
SUMMARY:Meridian Daylight Lodge No 9813
DESCRIPTION:
URL:https://www.lincolnshirefreemasons.org/event/meridian-daylight-lodge-no-9813/2027-04-09/
LOCATION:Grantham\, Chambers Street\, Grantham
CATEGORIES:Calendar
END:VEVENT
BEGIN:VEVENT
DTSTART;VALUE=DATE:20270414
DTEND;VALUE=DATE:20270415
DTSTAMP:20260424T055953
CREATED:20190301T142654Z
LAST-MODIFIED:20190301T142654Z
UID:24881-1807660800-1807747199@www.lincolnshirefreemasons.org
SUMMARY:Sir Joseph Banks Daylight Lodge No 9828
DESCRIPTION:
URL:https://www.lincolnshirefreemasons.org/event/sir-joseph-banks-daylight-lodge-no-9828/2027-04-14/
LOCATION:Horncastle\, Banks Street\, Horncastle
CATEGORIES:Calendar
END:VEVENT
BEGIN:VEVENT
DTSTART;VALUE=DATE:20270419
DTEND;VALUE=DATE:20270420
DTSTAMP:20260424T055953
CREATED:20190313T174407Z
LAST-MODIFIED:20190313T174407Z
UID:24929-1808092800-1808179199@www.lincolnshirefreemasons.org
SUMMARY:St. Botolph’s Royal Arch Chapter No 272
DESCRIPTION:
URL:https://www.lincolnshirefreemasons.org/event/st-botolphs-royal-arch-chapter-no-272-2/2027-04-19/
CATEGORIES:Calendar,Chapter
END:VEVENT
BEGIN:VEVENT
DTSTART;VALUE=DATE:20270421
DTEND;VALUE=DATE:20270422
DTSTAMP:20260424T055953
CREATED:20190331T234738Z
LAST-MODIFIED:20190331T234738Z
UID:24947-1808265600-1808351999@www.lincolnshirefreemasons.org
SUMMARY:Pharos Lodge No 6450
DESCRIPTION:
URL:https://www.lincolnshirefreemasons.org/event/pharos-lodge-no-6450/2027-04-21/
LOCATION:Scunthorpe\, Normanby Road\, Scunthorpe
CATEGORIES:Calendar
END:VEVENT
BEGIN:VEVENT
DTSTART;VALUE=DATE:20270406
DTEND;VALUE=DATE:20270407
DTSTAMP:20260424T055953
CREATED:20190909T134825Z
LAST-MODIFIED:20190909T134825Z
UID:24806-1806969600-1807055999@www.lincolnshirefreemasons.org
SUMMARY:Chapter of Concord No 297
DESCRIPTION:
URL:https://www.lincolnshirefreemasons.org/event/chapter-of-concord-no-297/2027-04-06/
CATEGORIES:Calendar,Chapter
END:VEVENT
BEGIN:VEVENT
DTSTART;VALUE=DATE:20270415
DTEND;VALUE=DATE:20270416
DTSTAMP:20260424T055953
CREATED:20190909T135103Z
LAST-MODIFIED:20190909T135103Z
UID:24903-1807747200-1807833599@www.lincolnshirefreemasons.org
SUMMARY:Doric Chapter No 362
DESCRIPTION:
URL:https://www.lincolnshirefreemasons.org/event/doric-chapter-no-362/2027-04-15/
CATEGORIES:Calendar,Chapter
END:VEVENT
BEGIN:VEVENT
DTSTART;VALUE=DATE:20270407
DTEND;VALUE=DATE:20270408
DTSTAMP:20260424T055953
CREATED:20190909T140728Z
LAST-MODIFIED:20190909T140728Z
UID:24809-1807056000-1807142399@www.lincolnshirefreemasons.org
SUMMARY:Hereward Chapter No 1232
DESCRIPTION:
URL:https://www.lincolnshirefreemasons.org/event/hereward-chapter-no-1232/2027-04-07/
LOCATION:Bourne\, Roman Bank\, Bourne\, PE10 9LQ
END:VEVENT
BEGIN:VEVENT
DTSTART;VALUE=DATE:20270406
DTEND;VALUE=DATE:20270407
DTSTAMP:20260424T055953
CREATED:20190909T140908Z
LAST-MODIFIED:20190909T140908Z
UID:24807-1806969600-1807055999@www.lincolnshirefreemasons.org
SUMMARY:Ancholme Chapter No 1282
DESCRIPTION:
URL:https://www.lincolnshirefreemasons.org/event/ancholme-chapter-no-1282/2027-04-06/
LOCATION:Brigg\, Cary Lane\, Brigg
CATEGORIES:Calendar,Chapter
END:VEVENT
BEGIN:VEVENT
DTSTART;VALUE=DATE:20270422
DTEND;VALUE=DATE:20270423
DTSTAMP:20260424T055953
CREATED:20190909T141841Z
LAST-MODIFIED:20190909T141841Z
UID:24967-1808352000-1808438399@www.lincolnshirefreemasons.org
SUMMARY:Isle of Axholme Chapter No 1482
DESCRIPTION:
URL:https://www.lincolnshirefreemasons.org/event/isle-of-axholme-chapter-no-1482/2027-04-22/
LOCATION:Crowle\, Park View\, Crowle
CATEGORIES:Calendar,Chapter
END:VEVENT
BEGIN:VEVENT
DTSTART;VALUE=DATE:20270408
DTEND;VALUE=DATE:20270409
DTSTAMP:20260424T055953
CREATED:20190909T142422Z
LAST-MODIFIED:20190909T142422Z
UID:24826-1807142400-1807228799@www.lincolnshirefreemasons.org
SUMMARY:St. Lawrence Chapter No 2078
DESCRIPTION:
URL:https://www.lincolnshirefreemasons.org/event/st-lawrence-chapter-no-2078/2027-04-08/
LOCATION:Scunthorpe\, Normanby Road\, Scunthorpe
CATEGORIES:Calendar,Chapter
END:VEVENT
BEGIN:VEVENT
DTSTART;VALUE=DATE:20270420
DTEND;VALUE=DATE:20270421
DTSTAMP:20260424T055953
CREATED:20190909T143050Z
LAST-MODIFIED:20190909T143050Z
UID:24940-1808179200-1808265599@www.lincolnshirefreemasons.org
SUMMARY:Ermine Chapter No 2351
DESCRIPTION:
URL:https://www.lincolnshirefreemasons.org/event/ermine-chapter-no-2351/2027-04-20/
CATEGORIES:Calendar,Chapter
END:VEVENT
BEGIN:VEVENT
DTSTART;VALUE=DATE:20270413
DTEND;VALUE=DATE:20270414
DTSTAMP:20260424T055953
CREATED:20190916T095120Z
LAST-MODIFIED:20190916T095120Z
UID:24868-1807574400-1807660799@www.lincolnshirefreemasons.org
SUMMARY:Lord Worsley Chapter No 3017
DESCRIPTION:
URL:https://www.lincolnshirefreemasons.org/event/lord-worsley-chapter-no-3017/2027-04-13/
LOCATION:Cleethorpes\, 1 Kings Road\, Cleethorpes
CATEGORIES:Calendar,Chapter
END:VEVENT
BEGIN:VEVENT
DTSTART;VALUE=DATE:20270408
DTEND;VALUE=DATE:20270409
DTSTAMP:20260424T055953
CREATED:20190916T095241Z
LAST-MODIFIED:20190916T095241Z
UID:24825-1807142400-1807228799@www.lincolnshirefreemasons.org
SUMMARY:Astral Chapter No 3841
DESCRIPTION:
URL:https://www.lincolnshirefreemasons.org/event/astral-chapter-no-3841/2027-04-08/
LOCATION:Grimsby\, Masonic Hall\, Cambridge Road\, Grimsby
CATEGORIES:Calendar,Chapter
END:VEVENT
END:VCALENDAR