BEGIN:VCALENDAR
VERSION:2.0
PRODID:-//Provincial Grand Lodge of Lincolnshire - ECPv5.8.2//NONSGML v1.0//EN
CALSCALE:GREGORIAN
METHOD:PUBLISH
X-WR-CALNAME:Provincial Grand Lodge of Lincolnshire
X-ORIGINAL-URL:https://www.lincolnshirefreemasons.org
X-WR-CALDESC:Events for Provincial Grand Lodge of Lincolnshire
BEGIN:VTIMEZONE
TZID:UTC
BEGIN:STANDARD
TZOFFSETFROM:+0000
TZOFFSETTO:+0000
TZNAME:UTC
DTSTART:20260101T000000
END:STANDARD
END:VTIMEZONE
BEGIN:VEVENT
DTSTART;VALUE=DATE:20261020
DTEND;VALUE=DATE:20261021
DTSTAMP:20260423T135712
CREATED:20190301T102809Z
LAST-MODIFIED:20190301T102809Z
UID:22603-1792454400-1792540799@www.lincolnshirefreemasons.org
SUMMARY:Apollo Lodge No 5471
DESCRIPTION:Share on FacebookTweetFollow usSave
URL:https://www.lincolnshirefreemasons.org/event/apollo-lodge-no-5471/2026-10-20/
LOCATION:Cleethorpes\, 1 Kings Road\, Cleethorpes
CATEGORIES:Calendar
END:VEVENT
BEGIN:VEVENT
DTSTART;VALUE=DATE:20261117
DTEND;VALUE=DATE:20261118
DTSTAMP:20260423T135712
CREATED:20190301T102809Z
LAST-MODIFIED:20190301T102809Z
UID:22933-1794873600-1794959999@www.lincolnshirefreemasons.org
SUMMARY:Apollo Lodge No 5471
DESCRIPTION:Share on FacebookTweetFollow usSave
URL:https://www.lincolnshirefreemasons.org/event/apollo-lodge-no-5471/2026-11-17/
LOCATION:Cleethorpes\, 1 Kings Road\, Cleethorpes
CATEGORIES:Calendar
END:VEVENT
BEGIN:VEVENT
DTSTART;VALUE=DATE:20261215
DTEND;VALUE=DATE:20261216
DTSTAMP:20260423T135712
CREATED:20190301T102809Z
LAST-MODIFIED:20190301T102809Z
UID:23378-1797292800-1797379199@www.lincolnshirefreemasons.org
SUMMARY:Apollo Lodge No 5471
DESCRIPTION:Share on FacebookTweetFollow usSave
URL:https://www.lincolnshirefreemasons.org/event/apollo-lodge-no-5471/2026-12-15/
LOCATION:Cleethorpes\, 1 Kings Road\, Cleethorpes
CATEGORIES:Calendar
END:VEVENT
BEGIN:VEVENT
DTSTART;VALUE=DATE:20270119
DTEND;VALUE=DATE:20270120
DTSTAMP:20260423T135712
CREATED:20190301T102809Z
LAST-MODIFIED:20190301T102809Z
UID:23784-1800316800-1800403199@www.lincolnshirefreemasons.org
SUMMARY:Apollo Lodge No 5471
DESCRIPTION:Share on FacebookTweetFollow usSave
URL:https://www.lincolnshirefreemasons.org/event/apollo-lodge-no-5471/2027-01-19/
LOCATION:Cleethorpes\, 1 Kings Road\, Cleethorpes
CATEGORIES:Calendar
END:VEVENT
BEGIN:VEVENT
DTSTART;VALUE=DATE:20270216
DTEND;VALUE=DATE:20270217
DTSTAMP:20260423T135712
CREATED:20190301T102809Z
LAST-MODIFIED:20190301T102809Z
UID:24170-1802736000-1802822399@www.lincolnshirefreemasons.org
SUMMARY:Apollo Lodge No 5471
DESCRIPTION:Share on FacebookTweetFollow usSave
URL:https://www.lincolnshirefreemasons.org/event/apollo-lodge-no-5471/2027-02-16/
LOCATION:Cleethorpes\, 1 Kings Road\, Cleethorpes
CATEGORIES:Calendar
END:VEVENT
BEGIN:VEVENT
DTSTART;VALUE=DATE:20270316
DTEND;VALUE=DATE:20270317
DTSTAMP:20260423T135712
CREATED:20190301T102809Z
LAST-MODIFIED:20190301T102809Z
UID:24534-1805155200-1805241599@www.lincolnshirefreemasons.org
SUMMARY:Apollo Lodge No 5471
DESCRIPTION:Share on FacebookTweetFollow usSave
URL:https://www.lincolnshirefreemasons.org/event/apollo-lodge-no-5471/2027-03-16/
LOCATION:Cleethorpes\, 1 Kings Road\, Cleethorpes
CATEGORIES:Calendar
END:VEVENT
BEGIN:VEVENT
DTSTART;VALUE=DATE:20270420
DTEND;VALUE=DATE:20270421
DTSTAMP:20260423T135712
CREATED:20190301T102809Z
LAST-MODIFIED:20190301T102809Z
UID:24942-1808179200-1808265599@www.lincolnshirefreemasons.org
SUMMARY:Apollo Lodge No 5471
DESCRIPTION:Share on FacebookTweetFollow usSave
URL:https://www.lincolnshirefreemasons.org/event/apollo-lodge-no-5471/2027-04-20/
LOCATION:Cleethorpes\, 1 Kings Road\, Cleethorpes
CATEGORIES:Calendar
END:VEVENT
BEGIN:VEVENT
DTSTART;VALUE=DATE:20260915
DTEND;VALUE=DATE:20260916
DTSTAMP:20260423T135712
CREATED:20190301T102809Z
LAST-MODIFIED:20190301T102809Z
UID:22000-1789430400-1789516799@www.lincolnshirefreemasons.org
SUMMARY:Apollo Lodge No 5471
DESCRIPTION:Share on FacebookTweetFollow usSave
URL:https://www.lincolnshirefreemasons.org/event/apollo-lodge-no-5471/2026-09-15/
LOCATION:Cleethorpes\, 1 Kings Road\, Cleethorpes
CATEGORIES:Calendar
END:VEVENT
END:VCALENDAR