BEGIN:VCALENDAR
VERSION:2.0
PRODID:-//Provincial Grand Lodge of Lincolnshire - ECPv5.8.2//NONSGML v1.0//EN
CALSCALE:GREGORIAN
METHOD:PUBLISH
X-WR-CALNAME:Provincial Grand Lodge of Lincolnshire
X-ORIGINAL-URL:https://www.lincolnshirefreemasons.org
X-WR-CALDESC:Events for Provincial Grand Lodge of Lincolnshire
BEGIN:VTIMEZONE
TZID:UTC
BEGIN:STANDARD
TZOFFSETFROM:+0000
TZOFFSETTO:+0000
TZNAME:UTC
DTSTART:20270101T000000
END:STANDARD
END:VTIMEZONE
BEGIN:VEVENT
DTSTART;VALUE=DATE:20270422
DTEND;VALUE=DATE:20270423
DTSTAMP:20260423T210929
CREATED:20190301T102627Z
LAST-MODIFIED:20190301T102627Z
UID:24968-1808352000-1808438399@www.lincolnshirefreemasons.org
SUMMARY:Ashlar Lodge No 5219
DESCRIPTION:Share on FacebookTweetFollow usSave
URL:https://www.lincolnshirefreemasons.org/event/ashlar-lodge-no-5219/2027-04-22/
LOCATION:Lincoln\, 116 Nettleham Road\, Lincoln\, LN2 1RR
CATEGORIES:Calendar
END:VEVENT
END:VCALENDAR