BEGIN:VCALENDAR
VERSION:2.0
PRODID:-//Provincial Grand Lodge of Lincolnshire - ECPv5.8.2//NONSGML v1.0//EN
CALSCALE:GREGORIAN
METHOD:PUBLISH
X-WR-CALNAME:Provincial Grand Lodge of Lincolnshire
X-ORIGINAL-URL:https://www.lincolnshirefreemasons.org
X-WR-CALDESC:Events for Provincial Grand Lodge of Lincolnshire
BEGIN:VTIMEZONE
TZID:Europe/London
BEGIN:DAYLIGHT
TZOFFSETFROM:+0000
TZOFFSETTO:+0100
TZNAME:BST
DTSTART:20260329T010000
END:DAYLIGHT
BEGIN:STANDARD
TZOFFSETFROM:+0100
TZOFFSETTO:+0000
TZNAME:GMT
DTSTART:20261025T010000
END:STANDARD
BEGIN:DAYLIGHT
TZOFFSETFROM:+0000
TZOFFSETTO:+0100
TZNAME:BST
DTSTART:20270328T010000
END:DAYLIGHT
BEGIN:STANDARD
TZOFFSETFROM:+0100
TZOFFSETTO:+0000
TZNAME:GMT
DTSTART:20271031T010000
END:STANDARD
END:VTIMEZONE
BEGIN:VEVENT
DTSTART;VALUE=DATE:20270316
DTEND;VALUE=DATE:20270317
DTSTAMP:20260424T101837
CREATED:20190909T141324Z
LAST-MODIFIED:20190909T141324Z
UID:24532-1805155200-1805241599@www.lincolnshirefreemasons.org
SUMMARY:Banovallum Chapter No 1304
DESCRIPTION:Share on FacebookTweetFollow usSave
URL:https://www.lincolnshirefreemasons.org/event/banovallum-chapter-no-1304/2027-03-16/
LOCATION:Horncastle\, Banks Street\, Horncastle
CATEGORIES:Calendar,Chapter
END:VEVENT
BEGIN:VEVENT
DTSTART;VALUE=DATE:20261020
DTEND;VALUE=DATE:20261021
DTSTAMP:20260424T101837
CREATED:20190909T141324Z
LAST-MODIFIED:20190909T141324Z
UID:22601-1792454400-1792540799@www.lincolnshirefreemasons.org
SUMMARY:Banovallum Chapter No 1304
DESCRIPTION:Share on FacebookTweetFollow usSave
URL:https://www.lincolnshirefreemasons.org/event/banovallum-chapter-no-1304/2026-10-20/
LOCATION:Horncastle\, Banks Street\, Horncastle
CATEGORIES:Calendar,Chapter
END:VEVENT
BEGIN:VEVENT
DTSTART;VALUE=DATE:20261117
DTEND;VALUE=DATE:20261118
DTSTAMP:20260424T101837
CREATED:20190909T141324Z
LAST-MODIFIED:20190909T141324Z
UID:22931-1794873600-1794959999@www.lincolnshirefreemasons.org
SUMMARY:Banovallum Chapter No 1304
DESCRIPTION:Share on FacebookTweetFollow usSave
URL:https://www.lincolnshirefreemasons.org/event/banovallum-chapter-no-1304/2026-11-17/
LOCATION:Horncastle\, Banks Street\, Horncastle
CATEGORIES:Calendar,Chapter
END:VEVENT
BEGIN:VEVENT
DTSTART;VALUE=DATE:20270119
DTEND;VALUE=DATE:20270120
DTSTAMP:20260424T101837
CREATED:20190909T141324Z
LAST-MODIFIED:20190909T141324Z
UID:23781-1800316800-1800403199@www.lincolnshirefreemasons.org
SUMMARY:Banovallum Chapter No 1304
DESCRIPTION:Share on FacebookTweetFollow usSave
URL:https://www.lincolnshirefreemasons.org/event/banovallum-chapter-no-1304/2027-01-19/
LOCATION:Horncastle\, Banks Street\, Horncastle
CATEGORIES:Calendar,Chapter
END:VEVENT
END:VCALENDAR