BEGIN:VCALENDAR
VERSION:2.0
PRODID:-//Provincial Grand Lodge of Lincolnshire - ECPv5.8.2//NONSGML v1.0//EN
CALSCALE:GREGORIAN
METHOD:PUBLISH
X-WR-CALNAME:Provincial Grand Lodge of Lincolnshire
X-ORIGINAL-URL:https://www.lincolnshirefreemasons.org
X-WR-CALDESC:Events for Provincial Grand Lodge of Lincolnshire
BEGIN:VTIMEZONE
TZID:UTC
BEGIN:STANDARD
TZOFFSETFROM:+0000
TZOFFSETTO:+0000
TZNAME:UTC
DTSTART:20190101T000000
END:STANDARD
END:VTIMEZONE
BEGIN:VEVENT
DTSTART;VALUE=DATE:20190318
DTEND;VALUE=DATE:20190319
DTSTAMP:20260424T101810
CREATED:20190306T132044Z
LAST-MODIFIED:20190306T132122Z
UID:3509-1552867200-1552953599@www.lincolnshirefreemasons.org
SUMMARY:Bayons Lodge No 1286
DESCRIPTION:Share on FacebookTweetFollow usSave
URL:https://www.lincolnshirefreemasons.org/event/bayons-lodge-no-1286/2019-03-18/
LOCATION:Market Rasen\, Jameson Bridge Street\, Market rasen\, LN8 3EW
CATEGORIES:Calendar
END:VEVENT
END:VCALENDAR