BEGIN:VCALENDAR
VERSION:2.0
PRODID:-//Provincial Grand Lodge of Lincolnshire - ECPv5.8.2//NONSGML v1.0//EN
CALSCALE:GREGORIAN
METHOD:PUBLISH
X-WR-CALNAME:Provincial Grand Lodge of Lincolnshire
X-ORIGINAL-URL:https://www.lincolnshirefreemasons.org
X-WR-CALDESC:Events for Provincial Grand Lodge of Lincolnshire
BEGIN:VTIMEZONE
TZID:UTC
BEGIN:STANDARD
TZOFFSETFROM:+0000
TZOFFSETTO:+0000
TZNAME:UTC
DTSTART:20270101T000000
END:STANDARD
END:VTIMEZONE
BEGIN:VEVENT
DTSTART;VALUE=DATE:20270415
DTEND;VALUE=DATE:20270416
DTSTAMP:20260423T181035
CREATED:20190301T130631Z
LAST-MODIFIED:20190301T130631Z
UID:24907-1807747200-1807833599@www.lincolnshirefreemasons.org
SUMMARY:Bolingbroke Castle Lodge No 8173
DESCRIPTION:Share on FacebookTweetFollow usSave
URL:https://www.lincolnshirefreemasons.org/event/bolingbroke-castle-lodge-no-8173/2027-04-15/
LOCATION:Horncastle\, Banks Street\, Horncastle
CATEGORIES:Calendar
END:VEVENT
END:VCALENDAR