BEGIN:VCALENDAR
VERSION:2.0
PRODID:-//Provincial Grand Lodge of Lincolnshire - ECPv5.8.2//NONSGML v1.0//EN
CALSCALE:GREGORIAN
METHOD:PUBLISH
X-WR-CALNAME:Provincial Grand Lodge of Lincolnshire
X-ORIGINAL-URL:https://www.lincolnshirefreemasons.org
X-WR-CALDESC:Events for Provincial Grand Lodge of Lincolnshire
BEGIN:VTIMEZONE
TZID:UTC
BEGIN:STANDARD
TZOFFSETFROM:+0000
TZOFFSETTO:+0000
TZNAME:UTC
DTSTART:20190101T000000
END:STANDARD
END:VTIMEZONE
BEGIN:VEVENT
DTSTART;VALUE=DATE:20190306
DTEND;VALUE=DATE:20190307
DTSTAMP:20260423T153616
CREATED:20190228T205312Z
LAST-MODIFIED:20190228T205312Z
UID:2694-1551830400-1551916799@www.lincolnshirefreemasons.org
SUMMARY:Doric Lodge No 362
DESCRIPTION:Share on FacebookTweetFollow usSave
URL:https://www.lincolnshirefreemasons.org/event/doric-lodge-no-362/2019-03-06/
CATEGORIES:Calendar
END:VEVENT
END:VCALENDAR