BEGIN:VCALENDAR
VERSION:2.0
PRODID:-//Provincial Grand Lodge of Lincolnshire - ECPv5.8.2//NONSGML v1.0//EN
CALSCALE:GREGORIAN
METHOD:PUBLISH
X-WR-CALNAME:Provincial Grand Lodge of Lincolnshire
X-ORIGINAL-URL:https://www.lincolnshirefreemasons.org
X-WR-CALDESC:Events for Provincial Grand Lodge of Lincolnshire
BEGIN:VTIMEZONE
TZID:UTC
BEGIN:STANDARD
TZOFFSETFROM:+0000
TZOFFSETTO:+0000
TZNAME:UTC
DTSTART:20260101T000000
END:STANDARD
END:VTIMEZONE
BEGIN:VEVENT
DTSTART;VALUE=DATE:20270121
DTEND;VALUE=DATE:20270122
DTSTAMP:20260423T135813
CREATED:20190228T225326Z
LAST-MODIFIED:20190228T225326Z
UID:23840-1800489600-1800575999@www.lincolnshirefreemasons.org
SUMMARY:Earl of Yarborough Lodge No 2770
DESCRIPTION:Share on FacebookTweetFollow usSave
URL:https://www.lincolnshirefreemasons.org/event/earl-of-yarborough-lodge-no-2770/2027-01-21/
LOCATION:Grimsby\, Masonic Hall\, Cambridge Road\, Grimsby
CATEGORIES:Calendar
END:VEVENT
BEGIN:VEVENT
DTSTART;VALUE=DATE:20270218
DTEND;VALUE=DATE:20270219
DTSTAMP:20260423T135813
CREATED:20190228T225326Z
LAST-MODIFIED:20190228T225326Z
UID:24195-1802908800-1802995199@www.lincolnshirefreemasons.org
SUMMARY:Earl of Yarborough Lodge No 2770
DESCRIPTION:Share on FacebookTweetFollow usSave
URL:https://www.lincolnshirefreemasons.org/event/earl-of-yarborough-lodge-no-2770/2027-02-18/
LOCATION:Grimsby\, Masonic Hall\, Cambridge Road\, Grimsby
CATEGORIES:Calendar
END:VEVENT
BEGIN:VEVENT
DTSTART;VALUE=DATE:20270318
DTEND;VALUE=DATE:20270319
DTSTAMP:20260423T135813
CREATED:20190228T225326Z
LAST-MODIFIED:20190228T225326Z
UID:24582-1805328000-1805414399@www.lincolnshirefreemasons.org
SUMMARY:Earl of Yarborough Lodge No 2770
DESCRIPTION:Share on FacebookTweetFollow usSave
URL:https://www.lincolnshirefreemasons.org/event/earl-of-yarborough-lodge-no-2770/2027-03-18/
LOCATION:Grimsby\, Masonic Hall\, Cambridge Road\, Grimsby
CATEGORIES:Calendar
END:VEVENT
BEGIN:VEVENT
DTSTART;VALUE=DATE:20270415
DTEND;VALUE=DATE:20270416
DTSTAMP:20260423T135813
CREATED:20190228T225326Z
LAST-MODIFIED:20190228T225326Z
UID:24904-1807747200-1807833599@www.lincolnshirefreemasons.org
SUMMARY:Earl of Yarborough Lodge No 2770
DESCRIPTION:Share on FacebookTweetFollow usSave
URL:https://www.lincolnshirefreemasons.org/event/earl-of-yarborough-lodge-no-2770/2027-04-15/
LOCATION:Grimsby\, Masonic Hall\, Cambridge Road\, Grimsby
CATEGORIES:Calendar
END:VEVENT
BEGIN:VEVENT
DTSTART;VALUE=DATE:20260917
DTEND;VALUE=DATE:20260918
DTSTAMP:20260423T135813
CREATED:20190228T225326Z
LAST-MODIFIED:20190228T225326Z
UID:22045-1789603200-1789689599@www.lincolnshirefreemasons.org
SUMMARY:Earl of Yarborough Lodge No 2770
DESCRIPTION:Share on FacebookTweetFollow usSave
URL:https://www.lincolnshirefreemasons.org/event/earl-of-yarborough-lodge-no-2770/2026-09-17/
LOCATION:Grimsby\, Masonic Hall\, Cambridge Road\, Grimsby
CATEGORIES:Calendar
END:VEVENT
BEGIN:VEVENT
DTSTART;VALUE=DATE:20261015
DTEND;VALUE=DATE:20261016
DTSTAMP:20260423T135813
CREATED:20190228T225326Z
LAST-MODIFIED:20190228T225326Z
UID:22528-1792022400-1792108799@www.lincolnshirefreemasons.org
SUMMARY:Earl of Yarborough Lodge No 2770
DESCRIPTION:Share on FacebookTweetFollow usSave
URL:https://www.lincolnshirefreemasons.org/event/earl-of-yarborough-lodge-no-2770/2026-10-15/
LOCATION:Grimsby\, Masonic Hall\, Cambridge Road\, Grimsby
CATEGORIES:Calendar
END:VEVENT
BEGIN:VEVENT
DTSTART;VALUE=DATE:20261119
DTEND;VALUE=DATE:20261120
DTSTAMP:20260423T135813
CREATED:20190228T225326Z
LAST-MODIFIED:20190228T225326Z
UID:22965-1795046400-1795132799@www.lincolnshirefreemasons.org
SUMMARY:Earl of Yarborough Lodge No 2770
DESCRIPTION:Share on FacebookTweetFollow usSave
URL:https://www.lincolnshirefreemasons.org/event/earl-of-yarborough-lodge-no-2770/2026-11-19/
LOCATION:Grimsby\, Masonic Hall\, Cambridge Road\, Grimsby
CATEGORIES:Calendar
END:VEVENT
BEGIN:VEVENT
DTSTART;VALUE=DATE:20261217
DTEND;VALUE=DATE:20261218
DTSTAMP:20260423T135813
CREATED:20190228T225326Z
LAST-MODIFIED:20190228T225326Z
UID:23418-1797465600-1797551999@www.lincolnshirefreemasons.org
SUMMARY:Earl of Yarborough Lodge No 2770
DESCRIPTION:Share on FacebookTweetFollow usSave
URL:https://www.lincolnshirefreemasons.org/event/earl-of-yarborough-lodge-no-2770/2026-12-17/
LOCATION:Grimsby\, Masonic Hall\, Cambridge Road\, Grimsby
CATEGORIES:Calendar
END:VEVENT
END:VCALENDAR