BEGIN:VCALENDAR
VERSION:2.0
PRODID:-//Provincial Grand Lodge of Lincolnshire - ECPv5.8.2//NONSGML v1.0//EN
CALSCALE:GREGORIAN
METHOD:PUBLISH
X-WR-CALNAME:Provincial Grand Lodge of Lincolnshire
X-ORIGINAL-URL:https://www.lincolnshirefreemasons.org
X-WR-CALDESC:Events for Provincial Grand Lodge of Lincolnshire
BEGIN:VTIMEZONE
TZID:UTC
BEGIN:STANDARD
TZOFFSETFROM:+0000
TZOFFSETTO:+0000
TZNAME:UTC
DTSTART:20260101T000000
END:STANDARD
END:VTIMEZONE
BEGIN:VEVENT
DTSTART;VALUE=DATE:20261208
DTEND;VALUE=DATE:20261209
DTSTAMP:20260423T154452
CREATED:20190301T131550Z
LAST-MODIFIED:20190301T131550Z
UID:23255-1796688000-1796774399@www.lincolnshirefreemasons.org
SUMMARY:Eccles Lodge No 8632
DESCRIPTION:Share on FacebookTweetFollow usSave
URL:https://www.lincolnshirefreemasons.org/event/eccles-lodge-no-8632/2026-12-08/
LOCATION:Spilsby\, Halton Road\, Spilsby
CATEGORIES:Calendar
END:VEVENT
BEGIN:VEVENT
DTSTART;VALUE=DATE:20270112
DTEND;VALUE=DATE:20270113
DTSTAMP:20260423T154452
CREATED:20190301T131550Z
LAST-MODIFIED:20190301T131550Z
UID:23650-1799712000-1799798399@www.lincolnshirefreemasons.org
SUMMARY:Eccles Lodge No 8632
DESCRIPTION:Share on FacebookTweetFollow usSave
URL:https://www.lincolnshirefreemasons.org/event/eccles-lodge-no-8632/2027-01-12/
LOCATION:Spilsby\, Halton Road\, Spilsby
CATEGORIES:Calendar
END:VEVENT
BEGIN:VEVENT
DTSTART;VALUE=DATE:20270209
DTEND;VALUE=DATE:20270210
DTSTAMP:20260423T154452
CREATED:20190301T131550Z
LAST-MODIFIED:20190301T131550Z
UID:24137-1802131200-1802217599@www.lincolnshirefreemasons.org
SUMMARY:Eccles Lodge No 8632
DESCRIPTION:Share on FacebookTweetFollow usSave
URL:https://www.lincolnshirefreemasons.org/event/eccles-lodge-no-8632/2027-02-09/
LOCATION:Spilsby\, Halton Road\, Spilsby
CATEGORIES:Calendar
END:VEVENT
END:VCALENDAR