BEGIN:VCALENDAR
VERSION:2.0
PRODID:-//Provincial Grand Lodge of Lincolnshire - ECPv5.8.2//NONSGML v1.0//EN
CALSCALE:GREGORIAN
METHOD:PUBLISH
X-WR-CALNAME:Provincial Grand Lodge of Lincolnshire
X-ORIGINAL-URL:https://www.lincolnshirefreemasons.org
X-WR-CALDESC:Events for Provincial Grand Lodge of Lincolnshire
BEGIN:VTIMEZONE
TZID:Europe/London
BEGIN:DAYLIGHT
TZOFFSETFROM:+0000
TZOFFSETTO:+0100
TZNAME:BST
DTSTART:20260329T010000
END:DAYLIGHT
BEGIN:STANDARD
TZOFFSETFROM:+0100
TZOFFSETTO:+0000
TZNAME:GMT
DTSTART:20261025T010000
END:STANDARD
BEGIN:DAYLIGHT
TZOFFSETFROM:+0000
TZOFFSETTO:+0100
TZNAME:BST
DTSTART:20270328T010000
END:DAYLIGHT
BEGIN:STANDARD
TZOFFSETFROM:+0100
TZOFFSETTO:+0000
TZNAME:GMT
DTSTART:20271031T010000
END:STANDARD
END:VTIMEZONE
BEGIN:VEVENT
DTSTART;VALUE=DATE:20260914
DTEND;VALUE=DATE:20260915
DTSTAMP:20260423T170454
CREATED:20190909T140522Z
LAST-MODIFIED:20190909T140522Z
UID:21994-1789344000-1789430399@www.lincolnshirefreemasons.org
SUMMARY:Edward Albert Chapter No 985
DESCRIPTION:Share on FacebookTweetFollow usSave
URL:https://www.lincolnshirefreemasons.org/event/edwaed-albert-chapter-no-985/2026-09-14/
LOCATION:Long Sutton\, Park Lane\, Long Sutton
CATEGORIES:Calendar,Chapter
END:VEVENT
BEGIN:VEVENT
DTSTART;VALUE=DATE:20261214
DTEND;VALUE=DATE:20261215
DTSTAMP:20260423T170454
CREATED:20190909T140522Z
LAST-MODIFIED:20190909T140522Z
UID:23357-1797206400-1797292799@www.lincolnshirefreemasons.org
SUMMARY:Edward Albert Chapter No 985
DESCRIPTION:Share on FacebookTweetFollow usSave
URL:https://www.lincolnshirefreemasons.org/event/edwaed-albert-chapter-no-985/2026-12-14/
LOCATION:Long Sutton\, Park Lane\, Long Sutton
CATEGORIES:Calendar,Chapter
END:VEVENT
BEGIN:VEVENT
DTSTART;VALUE=DATE:20270308
DTEND;VALUE=DATE:20270309
DTSTAMP:20260423T170454
CREATED:20190909T140522Z
LAST-MODIFIED:20190909T140522Z
UID:24399-1804464000-1804550399@www.lincolnshirefreemasons.org
SUMMARY:Edward Albert Chapter No 985
DESCRIPTION:Share on FacebookTweetFollow usSave
URL:https://www.lincolnshirefreemasons.org/event/edwaed-albert-chapter-no-985/2027-03-08/
LOCATION:Long Sutton\, Park Lane\, Long Sutton
CATEGORIES:Calendar,Chapter
END:VEVENT
BEGIN:VEVENT
DTSTART;VALUE=DATE:20260511
DTEND;VALUE=DATE:20260512
DTSTAMP:20260423T170454
CREATED:20190909T140522Z
LAST-MODIFIED:20190909T140522Z
UID:20516-1778457600-1778543999@www.lincolnshirefreemasons.org
SUMMARY:Edward Albert Chapter No 985
DESCRIPTION:Share on FacebookTweetFollow usSave
URL:https://www.lincolnshirefreemasons.org/event/edwaed-albert-chapter-no-985/2026-05-11/
LOCATION:Long Sutton\, Park Lane\, Long Sutton
CATEGORIES:Calendar,Chapter
END:VEVENT
END:VCALENDAR