BEGIN:VCALENDAR
VERSION:2.0
PRODID:-//Provincial Grand Lodge of Lincolnshire - ECPv5.8.2//NONSGML v1.0//EN
CALSCALE:GREGORIAN
METHOD:PUBLISH
X-WR-CALNAME:Provincial Grand Lodge of Lincolnshire
X-ORIGINAL-URL:https://www.lincolnshirefreemasons.org
X-WR-CALDESC:Events for Provincial Grand Lodge of Lincolnshire
BEGIN:VTIMEZONE
TZID:UTC
BEGIN:STANDARD
TZOFFSETFROM:+0000
TZOFFSETTO:+0000
TZNAME:UTC
DTSTART:20260101T000000
END:STANDARD
END:VTIMEZONE
BEGIN:VEVENT
DTSTART;VALUE=DATE:20270107
DTEND;VALUE=DATE:20270108
DTSTAMP:20260423T135715
CREATED:20190228T222811Z
LAST-MODIFIED:20190228T222811Z
UID:23606-1799280000-1799366399@www.lincolnshirefreemasons.org
SUMMARY:Franklin Lodge No 838
DESCRIPTION:Share on FacebookTweetFollow usSave
URL:https://www.lincolnshirefreemasons.org/event/franklin-lodge-no-838/2027-01-07/
CATEGORIES:Calendar
END:VEVENT
BEGIN:VEVENT
DTSTART;VALUE=DATE:20270204
DTEND;VALUE=DATE:20270205
DTSTAMP:20260423T135715
CREATED:20190228T222811Z
LAST-MODIFIED:20190228T222811Z
UID:24054-1801699200-1801785599@www.lincolnshirefreemasons.org
SUMMARY:Franklin Lodge No 838
DESCRIPTION:Share on FacebookTweetFollow usSave
URL:https://www.lincolnshirefreemasons.org/event/franklin-lodge-no-838/2027-02-04/
CATEGORIES:Calendar
END:VEVENT
BEGIN:VEVENT
DTSTART;VALUE=DATE:20270304
DTEND;VALUE=DATE:20270305
DTSTAMP:20260423T135715
CREATED:20190228T222811Z
LAST-MODIFIED:20190228T222811Z
UID:24380-1804118400-1804204799@www.lincolnshirefreemasons.org
SUMMARY:Franklin Lodge No 838
DESCRIPTION:Share on FacebookTweetFollow usSave
URL:https://www.lincolnshirefreemasons.org/event/franklin-lodge-no-838/2027-03-04/
CATEGORIES:Calendar
END:VEVENT
BEGIN:VEVENT
DTSTART;VALUE=DATE:20270401
DTEND;VALUE=DATE:20270402
DTSTAMP:20260423T135715
CREATED:20190228T222811Z
LAST-MODIFIED:20190228T222811Z
UID:24761-1806537600-1806623999@www.lincolnshirefreemasons.org
SUMMARY:Franklin Lodge No 838
DESCRIPTION:Share on FacebookTweetFollow usSave
URL:https://www.lincolnshirefreemasons.org/event/franklin-lodge-no-838/2027-04-01/
CATEGORIES:Calendar
END:VEVENT
BEGIN:VEVENT
DTSTART;VALUE=DATE:20260507
DTEND;VALUE=DATE:20260508
DTSTAMP:20260423T135715
CREATED:20190228T222811Z
LAST-MODIFIED:20190228T222811Z
UID:20464-1778112000-1778198399@www.lincolnshirefreemasons.org
SUMMARY:Franklin Lodge No 838
DESCRIPTION:Share on FacebookTweetFollow usSave
URL:https://www.lincolnshirefreemasons.org/event/franklin-lodge-no-838/2026-05-07/
CATEGORIES:Calendar
END:VEVENT
BEGIN:VEVENT
DTSTART;VALUE=DATE:20261001
DTEND;VALUE=DATE:20261002
DTSTAMP:20260423T135715
CREATED:20190228T222811Z
LAST-MODIFIED:20190228T222811Z
UID:22369-1790812800-1790899199@www.lincolnshirefreemasons.org
SUMMARY:Franklin Lodge No 838
DESCRIPTION:Share on FacebookTweetFollow usSave
URL:https://www.lincolnshirefreemasons.org/event/franklin-lodge-no-838/2026-10-01/
CATEGORIES:Calendar
END:VEVENT
BEGIN:VEVENT
DTSTART;VALUE=DATE:20261105
DTEND;VALUE=DATE:20261106
DTSTAMP:20260423T135715
CREATED:20190228T222811Z
LAST-MODIFIED:20190228T222811Z
UID:22776-1793836800-1793923199@www.lincolnshirefreemasons.org
SUMMARY:Franklin Lodge No 838
DESCRIPTION:Share on FacebookTweetFollow usSave
URL:https://www.lincolnshirefreemasons.org/event/franklin-lodge-no-838/2026-11-05/
CATEGORIES:Calendar
END:VEVENT
BEGIN:VEVENT
DTSTART;VALUE=DATE:20261203
DTEND;VALUE=DATE:20261204
DTSTAMP:20260423T135715
CREATED:20190228T222811Z
LAST-MODIFIED:20190228T222811Z
UID:23192-1796256000-1796342399@www.lincolnshirefreemasons.org
SUMMARY:Franklin Lodge No 838
DESCRIPTION:Share on FacebookTweetFollow usSave
URL:https://www.lincolnshirefreemasons.org/event/franklin-lodge-no-838/2026-12-03/
CATEGORIES:Calendar
END:VEVENT
END:VCALENDAR