BEGIN:VCALENDAR
VERSION:2.0
PRODID:-//Provincial Grand Lodge of Lincolnshire - ECPv5.8.2//NONSGML v1.0//EN
CALSCALE:GREGORIAN
METHOD:PUBLISH
X-WR-CALNAME:Provincial Grand Lodge of Lincolnshire
X-ORIGINAL-URL:https://www.lincolnshirefreemasons.org
X-WR-CALDESC:Events for Provincial Grand Lodge of Lincolnshire
BEGIN:VTIMEZONE
TZID:UTC
BEGIN:STANDARD
TZOFFSETFROM:+0000
TZOFFSETTO:+0000
TZNAME:UTC
DTSTART:20270101T000000
END:STANDARD
END:VTIMEZONE
BEGIN:VEVENT
DTSTART;VALUE=DATE:20270222
DTEND;VALUE=DATE:20270223
DTSTAMP:20260423T170752
CREATED:20190301T100358Z
LAST-MODIFIED:20190301T100358Z
UID:24252-1803254400-1803340799@www.lincolnshirefreemasons.org
SUMMARY:Gainas Lodge No 5121
DESCRIPTION:Share on FacebookTweetFollow usSave
URL:https://www.lincolnshirefreemasons.org/event/gainas-lodge-no-5121/2027-02-22/
LOCATION:Gainsborough\, 32 North Marsh Road\, Gainsborough
CATEGORIES:Calendar
END:VEVENT
BEGIN:VEVENT
DTSTART;VALUE=DATE:20270322
DTEND;VALUE=DATE:20270323
DTSTAMP:20260423T170752
CREATED:20190301T100358Z
LAST-MODIFIED:20190301T100358Z
UID:24647-1805673600-1805759999@www.lincolnshirefreemasons.org
SUMMARY:Gainas Lodge No 5121
DESCRIPTION:Share on FacebookTweetFollow usSave
URL:https://www.lincolnshirefreemasons.org/event/gainas-lodge-no-5121/2027-03-22/
LOCATION:Gainsborough\, 32 North Marsh Road\, Gainsborough
CATEGORIES:Calendar
END:VEVENT
END:VCALENDAR