BEGIN:VCALENDAR
VERSION:2.0
PRODID:-//Provincial Grand Lodge of Lincolnshire - ECPv5.8.2//NONSGML v1.0//EN
CALSCALE:GREGORIAN
METHOD:PUBLISH
X-WR-CALNAME:Provincial Grand Lodge of Lincolnshire
X-ORIGINAL-URL:https://www.lincolnshirefreemasons.org
X-WR-CALDESC:Events for Provincial Grand Lodge of Lincolnshire
BEGIN:VTIMEZONE
TZID:Europe/London
BEGIN:DAYLIGHT
TZOFFSETFROM:+0000
TZOFFSETTO:+0100
TZNAME:BST
DTSTART:20260329T010000
END:DAYLIGHT
BEGIN:STANDARD
TZOFFSETFROM:+0100
TZOFFSETTO:+0000
TZNAME:GMT
DTSTART:20261025T010000
END:STANDARD
BEGIN:DAYLIGHT
TZOFFSETFROM:+0000
TZOFFSETTO:+0100
TZNAME:BST
DTSTART:20270328T010000
END:DAYLIGHT
BEGIN:STANDARD
TZOFFSETFROM:+0100
TZOFFSETTO:+0000
TZNAME:GMT
DTSTART:20271031T010000
END:STANDARD
END:VTIMEZONE
BEGIN:VEVENT
DTSTART;VALUE=DATE:20260603
DTEND;VALUE=DATE:20260604
DTSTAMP:20260423T100955
CREATED:20190909T140728Z
LAST-MODIFIED:20190909T140728Z
UID:20762-1780444800-1780531199@www.lincolnshirefreemasons.org
SUMMARY:Hereward Chapter No 1232
DESCRIPTION:Share on FacebookTweetFollow usSave
URL:https://www.lincolnshirefreemasons.org/event/hereward-chapter-no-1232/2026-06-03/
LOCATION:Bourne\, Roman Bank\, Bourne\, PE10 9LQ
END:VEVENT
BEGIN:VEVENT
DTSTART;VALUE=DATE:20261104
DTEND;VALUE=DATE:20261105
DTSTAMP:20260423T100955
CREATED:20190909T140728Z
LAST-MODIFIED:20190909T140728Z
UID:22761-1793750400-1793836799@www.lincolnshirefreemasons.org
SUMMARY:Hereward Chapter No 1232
DESCRIPTION:Share on FacebookTweetFollow usSave
URL:https://www.lincolnshirefreemasons.org/event/hereward-chapter-no-1232/2026-11-04/
LOCATION:Bourne\, Roman Bank\, Bourne\, PE10 9LQ
END:VEVENT
BEGIN:VEVENT
DTSTART;VALUE=DATE:20270203
DTEND;VALUE=DATE:20270204
DTSTAMP:20260423T100955
CREATED:20190909T140728Z
LAST-MODIFIED:20190909T140728Z
UID:24013-1801612800-1801699199@www.lincolnshirefreemasons.org
SUMMARY:Hereward Chapter No 1232
DESCRIPTION:Share on FacebookTweetFollow usSave
URL:https://www.lincolnshirefreemasons.org/event/hereward-chapter-no-1232/2027-02-03/
LOCATION:Bourne\, Roman Bank\, Bourne\, PE10 9LQ
END:VEVENT
BEGIN:VEVENT
DTSTART;VALUE=DATE:20270407
DTEND;VALUE=DATE:20270408
DTSTAMP:20260423T100955
CREATED:20190909T140728Z
LAST-MODIFIED:20190909T140728Z
UID:24809-1807056000-1807142399@www.lincolnshirefreemasons.org
SUMMARY:Hereward Chapter No 1232
DESCRIPTION:Share on FacebookTweetFollow usSave
URL:https://www.lincolnshirefreemasons.org/event/hereward-chapter-no-1232/2027-04-07/
LOCATION:Bourne\, Roman Bank\, Bourne\, PE10 9LQ
END:VEVENT
END:VCALENDAR