BEGIN:VCALENDAR
VERSION:2.0
PRODID:-//Provincial Grand Lodge of Lincolnshire - ECPv5.8.2//NONSGML v1.0//EN
CALSCALE:GREGORIAN
METHOD:PUBLISH
X-WR-CALNAME:Provincial Grand Lodge of Lincolnshire
X-ORIGINAL-URL:https://www.lincolnshirefreemasons.org
X-WR-CALDESC:Events for Provincial Grand Lodge of Lincolnshire
BEGIN:VTIMEZONE
TZID:UTC
BEGIN:STANDARD
TZOFFSETFROM:+0000
TZOFFSETTO:+0000
TZNAME:UTC
DTSTART:20190101T000000
END:STANDARD
END:VTIMEZONE
BEGIN:VEVENT
DTSTART;VALUE=DATE:20190613
DTEND;VALUE=DATE:20190614
DTSTAMP:20260424T085806
CREATED:20190301T141339Z
LAST-MODIFIED:20190301T141339Z
UID:3305-1560384000-1560470399@www.lincolnshirefreemasons.org
SUMMARY:Lincolnshire Provincial Grand Stewards Lodge No 9726
DESCRIPTION:Share on FacebookTweetFollow usSave
URL:https://www.lincolnshirefreemasons.org/event/lincolnshire-provincial-grand-stewards-lodge-no-9726/2019-06-13/
LOCATION:Horncastle\, Banks Street\, Horncastle
CATEGORIES:Calendar
END:VEVENT
END:VCALENDAR