BEGIN:VCALENDAR
VERSION:2.0
PRODID:-//Provincial Grand Lodge of Lincolnshire - ECPv5.8.2//NONSGML v1.0//EN
CALSCALE:GREGORIAN
METHOD:PUBLISH
X-WR-CALNAME:Provincial Grand Lodge of Lincolnshire
X-ORIGINAL-URL:https://www.lincolnshirefreemasons.org
X-WR-CALDESC:Events for Provincial Grand Lodge of Lincolnshire
BEGIN:VTIMEZONE
TZID:UTC
BEGIN:STANDARD
TZOFFSETFROM:+0000
TZOFFSETTO:+0000
TZNAME:UTC
DTSTART:20260101T000000
END:STANDARD
END:VTIMEZONE
BEGIN:VEVENT
DTSTART;VALUE=DATE:20260602
DTEND;VALUE=DATE:20260603
DTSTAMP:20260424T061421
CREATED:20190301T142508Z
LAST-MODIFIED:20190301T142508Z
UID:20761-1780358400-1780444799@www.lincolnshirefreemasons.org
SUMMARY:Lodge of Established Order No 9822
DESCRIPTION:Share on FacebookTweetFollow usSave
URL:https://www.lincolnshirefreemasons.org/event/lodge-of-established-order-no-9822/2026-06-02/
LOCATION:Barton Upon Humber\, Brigg Road\, Barton Upon Humber
CATEGORIES:Calendar
END:VEVENT
BEGIN:VEVENT
DTSTART;VALUE=DATE:20260901
DTEND;VALUE=DATE:20260902
DTSTAMP:20260424T061421
CREATED:20190301T142508Z
LAST-MODIFIED:20190301T142508Z
UID:21492-1788220800-1788307199@www.lincolnshirefreemasons.org
SUMMARY:Lodge of Established Order No 9822
DESCRIPTION:Share on FacebookTweetFollow usSave
URL:https://www.lincolnshirefreemasons.org/event/lodge-of-established-order-no-9822/2026-09-01/
LOCATION:Barton Upon Humber\, Brigg Road\, Barton Upon Humber
CATEGORIES:Calendar
END:VEVENT
BEGIN:VEVENT
DTSTART;VALUE=DATE:20261103
DTEND;VALUE=DATE:20261104
DTSTAMP:20260424T061421
CREATED:20190301T142508Z
LAST-MODIFIED:20190301T142508Z
UID:22731-1793664000-1793750399@www.lincolnshirefreemasons.org
SUMMARY:Lodge of Established Order No 9822
DESCRIPTION:Share on FacebookTweetFollow usSave
URL:https://www.lincolnshirefreemasons.org/event/lodge-of-established-order-no-9822/2026-11-03/
LOCATION:Barton Upon Humber\, Brigg Road\, Barton Upon Humber
CATEGORIES:Calendar
END:VEVENT
BEGIN:VEVENT
DTSTART;VALUE=DATE:20270302
DTEND;VALUE=DATE:20270303
DTSTAMP:20260424T061421
CREATED:20190301T142508Z
LAST-MODIFIED:20190301T142508Z
UID:24361-1803945600-1804031999@www.lincolnshirefreemasons.org
SUMMARY:Lodge of Established Order No 9822
DESCRIPTION:Share on FacebookTweetFollow usSave
URL:https://www.lincolnshirefreemasons.org/event/lodge-of-established-order-no-9822/2027-03-02/
LOCATION:Barton Upon Humber\, Brigg Road\, Barton Upon Humber
CATEGORIES:Calendar
END:VEVENT
END:VCALENDAR