BEGIN:VCALENDAR
VERSION:2.0
PRODID:-//Provincial Grand Lodge of Lincolnshire - ECPv5.8.2//NONSGML v1.0//EN
CALSCALE:GREGORIAN
METHOD:PUBLISH
X-WR-CALNAME:Provincial Grand Lodge of Lincolnshire
X-ORIGINAL-URL:https://www.lincolnshirefreemasons.org
X-WR-CALDESC:Events for Provincial Grand Lodge of Lincolnshire
BEGIN:VTIMEZONE
TZID:UTC
BEGIN:STANDARD
TZOFFSETFROM:+0000
TZOFFSETTO:+0000
TZNAME:UTC
DTSTART:20260101T000000
END:STANDARD
END:VTIMEZONE
BEGIN:VEVENT
DTSTART;VALUE=DATE:20261216
DTEND;VALUE=DATE:20261217
DTSTAMP:20260423T153016
CREATED:20190301T135207Z
LAST-MODIFIED:20190301T135207Z
UID:23389-1797379200-1797465599@www.lincolnshirefreemasons.org
SUMMARY:Lodge of Old Clee No 8697
DESCRIPTION:Share on FacebookTweetFollow usSave
URL:https://www.lincolnshirefreemasons.org/event/lodge-of-old-clee-no-8697/2026-12-16/
LOCATION:Cleethorpes\, 1 Kings Road\, Cleethorpes
CATEGORIES:Calendar
END:VEVENT
BEGIN:VEVENT
DTSTART;VALUE=DATE:20270120
DTEND;VALUE=DATE:20270121
DTSTAMP:20260423T153016
CREATED:20190301T135207Z
LAST-MODIFIED:20190301T135207Z
UID:23820-1800403200-1800489599@www.lincolnshirefreemasons.org
SUMMARY:Lodge of Old Clee No 8697
DESCRIPTION:Share on FacebookTweetFollow usSave
URL:https://www.lincolnshirefreemasons.org/event/lodge-of-old-clee-no-8697/2027-01-20/
LOCATION:Cleethorpes\, 1 Kings Road\, Cleethorpes
CATEGORIES:Calendar
END:VEVENT
BEGIN:VEVENT
DTSTART;VALUE=DATE:20270217
DTEND;VALUE=DATE:20270218
DTSTAMP:20260423T153016
CREATED:20190301T135207Z
LAST-MODIFIED:20190301T135207Z
UID:24181-1802822400-1802908799@www.lincolnshirefreemasons.org
SUMMARY:Lodge of Old Clee No 8697
DESCRIPTION:Share on FacebookTweetFollow usSave
URL:https://www.lincolnshirefreemasons.org/event/lodge-of-old-clee-no-8697/2027-02-17/
LOCATION:Cleethorpes\, 1 Kings Road\, Cleethorpes
CATEGORIES:Calendar
END:VEVENT
END:VCALENDAR