BEGIN:VCALENDAR
VERSION:2.0
PRODID:-//Provincial Grand Lodge of Lincolnshire - ECPv5.8.2//NONSGML v1.0//EN
CALSCALE:GREGORIAN
METHOD:PUBLISH
X-WR-CALNAME:Provincial Grand Lodge of Lincolnshire
X-ORIGINAL-URL:https://www.lincolnshirefreemasons.org
X-WR-CALDESC:Events for Provincial Grand Lodge of Lincolnshire
BEGIN:VTIMEZONE
TZID:UTC
BEGIN:STANDARD
TZOFFSETFROM:+0000
TZOFFSETTO:+0000
TZNAME:UTC
DTSTART:20270101T000000
END:STANDARD
END:VTIMEZONE
BEGIN:VEVENT
DTSTART;VALUE=DATE:20270126
DTEND;VALUE=DATE:20270127
DTSTAMP:20260423T170945
CREATED:20190301T125600Z
LAST-MODIFIED:20190301T125600Z
UID:23917-1800921600-1801007999@www.lincolnshirefreemasons.org
SUMMARY:Lodge of St John No 7840
DESCRIPTION:Share on FacebookTweetFollow usSave
URL:https://www.lincolnshirefreemasons.org/event/lodge-of-st-john-no-7840/2027-01-26/
LOCATION:Scunthorpe\, Normanby Road\, Scunthorpe
CATEGORIES:Calendar
END:VEVENT
BEGIN:VEVENT
DTSTART;VALUE=DATE:20270223
DTEND;VALUE=DATE:20270224
DTSTAMP:20260423T170945
CREATED:20190301T125600Z
LAST-MODIFIED:20190301T125600Z
UID:24256-1803340800-1803427199@www.lincolnshirefreemasons.org
SUMMARY:Lodge of St John No 7840
DESCRIPTION:Share on FacebookTweetFollow usSave
URL:https://www.lincolnshirefreemasons.org/event/lodge-of-st-john-no-7840/2027-02-23/
LOCATION:Scunthorpe\, Normanby Road\, Scunthorpe
CATEGORIES:Calendar
END:VEVENT
BEGIN:VEVENT
DTSTART;VALUE=DATE:20270330
DTEND;VALUE=DATE:20270331
DTSTAMP:20260423T170945
CREATED:20190301T125600Z
LAST-MODIFIED:20190301T125600Z
UID:24752-1806364800-1806451199@www.lincolnshirefreemasons.org
SUMMARY:Lodge of St John No 7840
DESCRIPTION:Share on FacebookTweetFollow usSave
URL:https://www.lincolnshirefreemasons.org/event/lodge-of-st-john-no-7840/2027-03-30/
LOCATION:Scunthorpe\, Normanby Road\, Scunthorpe
CATEGORIES:Calendar
END:VEVENT
END:VCALENDAR