BEGIN:VCALENDAR
VERSION:2.0
PRODID:-//Provincial Grand Lodge of Lincolnshire - ECPv5.8.2//NONSGML v1.0//EN
CALSCALE:GREGORIAN
METHOD:PUBLISH
X-WR-CALNAME:Provincial Grand Lodge of Lincolnshire
X-ORIGINAL-URL:https://www.lincolnshirefreemasons.org
X-WR-CALDESC:Events for Provincial Grand Lodge of Lincolnshire
BEGIN:VTIMEZONE
TZID:Europe/London
BEGIN:DAYLIGHT
TZOFFSETFROM:+0000
TZOFFSETTO:+0100
TZNAME:BST
DTSTART:20260329T010000
END:DAYLIGHT
BEGIN:STANDARD
TZOFFSETFROM:+0100
TZOFFSETTO:+0000
TZNAME:GMT
DTSTART:20261025T010000
END:STANDARD
BEGIN:DAYLIGHT
TZOFFSETFROM:+0000
TZOFFSETTO:+0100
TZNAME:BST
DTSTART:20270328T010000
END:DAYLIGHT
BEGIN:STANDARD
TZOFFSETFROM:+0100
TZOFFSETTO:+0000
TZNAME:GMT
DTSTART:20271031T010000
END:STANDARD
END:VTIMEZONE
BEGIN:VEVENT
DTSTART;VALUE=DATE:20261013
DTEND;VALUE=DATE:20261014
DTSTAMP:20260423T135808
CREATED:20190916T095120Z
LAST-MODIFIED:20190916T095120Z
UID:22483-1791849600-1791935999@www.lincolnshirefreemasons.org
SUMMARY:Lord Worsley Chapter No 3017
DESCRIPTION:Share on FacebookTweetFollow usSave
URL:https://www.lincolnshirefreemasons.org/event/lord-worsley-chapter-no-3017/2026-10-13/
LOCATION:Cleethorpes\, 1 Kings Road\, Cleethorpes
CATEGORIES:Calendar,Chapter
END:VEVENT
BEGIN:VEVENT
DTSTART;VALUE=DATE:20261208
DTEND;VALUE=DATE:20261209
DTSTAMP:20260423T135808
CREATED:20190916T095120Z
LAST-MODIFIED:20190916T095120Z
UID:23252-1796688000-1796774399@www.lincolnshirefreemasons.org
SUMMARY:Lord Worsley Chapter No 3017
DESCRIPTION:Share on FacebookTweetFollow usSave
URL:https://www.lincolnshirefreemasons.org/event/lord-worsley-chapter-no-3017/2026-12-08/
LOCATION:Cleethorpes\, 1 Kings Road\, Cleethorpes
CATEGORIES:Calendar,Chapter
END:VEVENT
BEGIN:VEVENT
DTSTART;VALUE=DATE:20270209
DTEND;VALUE=DATE:20270210
DTSTAMP:20260423T135808
CREATED:20190916T095120Z
LAST-MODIFIED:20190916T095120Z
UID:24134-1802131200-1802217599@www.lincolnshirefreemasons.org
SUMMARY:Lord Worsley Chapter No 3017
DESCRIPTION:Share on FacebookTweetFollow usSave
URL:https://www.lincolnshirefreemasons.org/event/lord-worsley-chapter-no-3017/2027-02-09/
LOCATION:Cleethorpes\, 1 Kings Road\, Cleethorpes
CATEGORIES:Calendar,Chapter
END:VEVENT
BEGIN:VEVENT
DTSTART;VALUE=DATE:20270413
DTEND;VALUE=DATE:20270414
DTSTAMP:20260423T135808
CREATED:20190916T095120Z
LAST-MODIFIED:20190916T095120Z
UID:24868-1807574400-1807660799@www.lincolnshirefreemasons.org
SUMMARY:Lord Worsley Chapter No 3017
DESCRIPTION:Share on FacebookTweetFollow usSave
URL:https://www.lincolnshirefreemasons.org/event/lord-worsley-chapter-no-3017/2027-04-13/
LOCATION:Cleethorpes\, 1 Kings Road\, Cleethorpes
CATEGORIES:Calendar,Chapter
END:VEVENT
END:VCALENDAR