BEGIN:VCALENDAR
VERSION:2.0
PRODID:-//Provincial Grand Lodge of Lincolnshire - ECPv5.8.2//NONSGML v1.0//EN
CALSCALE:GREGORIAN
METHOD:PUBLISH
X-WR-CALNAME:Provincial Grand Lodge of Lincolnshire
X-ORIGINAL-URL:https://www.lincolnshirefreemasons.org
X-WR-CALDESC:Events for Provincial Grand Lodge of Lincolnshire
BEGIN:VTIMEZONE
TZID:UTC
BEGIN:STANDARD
TZOFFSETFROM:+0000
TZOFFSETTO:+0000
TZNAME:UTC
DTSTART:20260101T000000
END:STANDARD
END:VTIMEZONE
BEGIN:VEVENT
DTSTART;VALUE=DATE:20260505
DTEND;VALUE=DATE:20260506
DTSTAMP:20260423T153016
CREATED:20190228T224658Z
LAST-MODIFIED:20190228T224658Z
UID:20432-1777939200-1778025599@www.lincolnshirefreemasons.org
SUMMARY:Lord Worsley Lodge No 3017
DESCRIPTION:Share on FacebookTweetFollow usSave
URL:https://www.lincolnshirefreemasons.org/event/lord-worsley-lodge-no-3017/2026-05-05/
LOCATION:Cleethorpes\, 1 Kings Road\, Cleethorpes
CATEGORIES:Calendar
END:VEVENT
BEGIN:VEVENT
DTSTART;VALUE=DATE:20261006
DTEND;VALUE=DATE:20261007
DTSTAMP:20260423T153016
CREATED:20190228T224658Z
LAST-MODIFIED:20190228T224658Z
UID:22402-1791244800-1791331199@www.lincolnshirefreemasons.org
SUMMARY:Lord Worsley Lodge No 3017
DESCRIPTION:Share on FacebookTweetFollow usSave
URL:https://www.lincolnshirefreemasons.org/event/lord-worsley-lodge-no-3017/2026-10-06/
LOCATION:Cleethorpes\, 1 Kings Road\, Cleethorpes
CATEGORIES:Calendar
END:VEVENT
BEGIN:VEVENT
DTSTART;VALUE=DATE:20261103
DTEND;VALUE=DATE:20261104
DTSTAMP:20260423T153016
CREATED:20190228T224658Z
LAST-MODIFIED:20190228T224658Z
UID:22732-1793664000-1793750399@www.lincolnshirefreemasons.org
SUMMARY:Lord Worsley Lodge No 3017
DESCRIPTION:Share on FacebookTweetFollow usSave
URL:https://www.lincolnshirefreemasons.org/event/lord-worsley-lodge-no-3017/2026-11-03/
LOCATION:Cleethorpes\, 1 Kings Road\, Cleethorpes
CATEGORIES:Calendar
END:VEVENT
END:VCALENDAR