BEGIN:VCALENDAR
VERSION:2.0
PRODID:-//Provincial Grand Lodge of Lincolnshire - ECPv5.8.2//NONSGML v1.0//EN
CALSCALE:GREGORIAN
METHOD:PUBLISH
X-WR-CALNAME:Provincial Grand Lodge of Lincolnshire
X-ORIGINAL-URL:https://www.lincolnshirefreemasons.org
X-WR-CALDESC:Events for Provincial Grand Lodge of Lincolnshire
BEGIN:VTIMEZONE
TZID:UTC
BEGIN:STANDARD
TZOFFSETFROM:+0000
TZOFFSETTO:+0000
TZNAME:UTC
DTSTART:20260101T000000
END:STANDARD
END:VTIMEZONE
BEGIN:VEVENT
DTSTART;VALUE=DATE:20260410
DTEND;VALUE=DATE:20260411
DTSTAMP:20260423T135803
CREATED:20190301T142119Z
LAST-MODIFIED:20190301T142119Z
UID:20179-1775779200-1775865599@www.lincolnshirefreemasons.org
SUMMARY:Meridian Daylight Lodge No 9813
DESCRIPTION:Share on FacebookTweetFollow usSave
URL:https://www.lincolnshirefreemasons.org/event/meridian-daylight-lodge-no-9813/2026-04-10/
LOCATION:Grantham\, Chambers Street\, Grantham
CATEGORIES:Calendar
END:VEVENT
END:VCALENDAR