BEGIN:VCALENDAR
VERSION:2.0
PRODID:-//Provincial Grand Lodge of Lincolnshire - ECPv5.8.2//NONSGML v1.0//EN
CALSCALE:GREGORIAN
METHOD:PUBLISH
X-WR-CALNAME:Provincial Grand Lodge of Lincolnshire
X-ORIGINAL-URL:https://www.lincolnshirefreemasons.org
X-WR-CALDESC:Events for Provincial Grand Lodge of Lincolnshire
BEGIN:VTIMEZONE
TZID:UTC
BEGIN:STANDARD
TZOFFSETFROM:+0000
TZOFFSETTO:+0000
TZNAME:UTC
DTSTART:20260101T000000
END:STANDARD
END:VTIMEZONE
BEGIN:VEVENT
DTSTART;VALUE=DATE:20260507
DTEND;VALUE=DATE:20260508
DTSTAMP:20260423T153855
CREATED:20190228T225547Z
LAST-MODIFIED:20190228T225547Z
UID:20465-1778112000-1778198399@www.lincolnshirefreemasons.org
SUMMARY:Olive Union Lodge No 1304
DESCRIPTION:Share on FacebookTweetFollow usSave
URL:https://www.lincolnshirefreemasons.org/event/olive-union-lodge-no-1304/2026-05-07/
CATEGORIES:Calendar
END:VEVENT
BEGIN:VEVENT
DTSTART;VALUE=DATE:20270401
DTEND;VALUE=DATE:20270402
DTSTAMP:20260423T153855
CREATED:20190228T225547Z
LAST-MODIFIED:20190228T225547Z
UID:24762-1806537600-1806623999@www.lincolnshirefreemasons.org
SUMMARY:Olive Union Lodge No 1304
DESCRIPTION:Share on FacebookTweetFollow usSave
URL:https://www.lincolnshirefreemasons.org/event/olive-union-lodge-no-1304/2027-04-01/
CATEGORIES:Calendar
END:VEVENT
BEGIN:VEVENT
DTSTART;VALUE=DATE:20260903
DTEND;VALUE=DATE:20260904
DTSTAMP:20260423T153855
CREATED:20190228T225547Z
LAST-MODIFIED:20190228T225547Z
UID:21869-1788393600-1788479999@www.lincolnshirefreemasons.org
SUMMARY:Olive Union Lodge No 1304
DESCRIPTION:Share on FacebookTweetFollow usSave
URL:https://www.lincolnshirefreemasons.org/event/olive-union-lodge-no-1304/2026-09-03/
CATEGORIES:Calendar
END:VEVENT
BEGIN:VEVENT
DTSTART;VALUE=DATE:20261001
DTEND;VALUE=DATE:20261002
DTSTAMP:20260423T153855
CREATED:20190228T225547Z
LAST-MODIFIED:20190228T225547Z
UID:22370-1790812800-1790899199@www.lincolnshirefreemasons.org
SUMMARY:Olive Union Lodge No 1304
DESCRIPTION:Share on FacebookTweetFollow usSave
URL:https://www.lincolnshirefreemasons.org/event/olive-union-lodge-no-1304/2026-10-01/
CATEGORIES:Calendar
END:VEVENT
END:VCALENDAR