BEGIN:VCALENDAR
VERSION:2.0
PRODID:-//Provincial Grand Lodge of Lincolnshire - ECPv5.8.2//NONSGML v1.0//EN
CALSCALE:GREGORIAN
METHOD:PUBLISH
X-WR-CALNAME:Provincial Grand Lodge of Lincolnshire
X-ORIGINAL-URL:https://www.lincolnshirefreemasons.org
X-WR-CALDESC:Events for Provincial Grand Lodge of Lincolnshire
BEGIN:VTIMEZONE
TZID:UTC
BEGIN:STANDARD
TZOFFSETFROM:+0000
TZOFFSETTO:+0000
TZNAME:UTC
DTSTART:20190101T000000
END:STANDARD
END:VTIMEZONE
BEGIN:VEVENT
DTSTART;VALUE=DATE:20190328
DTEND;VALUE=DATE:20190329
DTSTAMP:20260424T061415
CREATED:20190301T135532Z
LAST-MODIFIED:20190301T135532Z
UID:3247-1553731200-1553817599@www.lincolnshirefreemasons.org
SUMMARY:Pilgrim Fathers Lodge No 8795
DESCRIPTION:Share on FacebookTweetFollow usSave
URL:https://www.lincolnshirefreemasons.org/event/pilgrim-fathers-lodge-no-8795/2019-03-28/
LOCATION:Boston\, Main Ridge West\, Boston
CATEGORIES:Calendar
END:VEVENT
END:VCALENDAR