BEGIN:VCALENDAR
VERSION:2.0
PRODID:-//Provincial Grand Lodge of Lincolnshire - ECPv5.8.2//NONSGML v1.0//EN
CALSCALE:GREGORIAN
METHOD:PUBLISH
X-WR-CALNAME:Provincial Grand Lodge of Lincolnshire
X-ORIGINAL-URL:https://www.lincolnshirefreemasons.org
X-WR-CALDESC:Events for Provincial Grand Lodge of Lincolnshire
BEGIN:VTIMEZONE
TZID:UTC
BEGIN:STANDARD
TZOFFSETFROM:+0000
TZOFFSETTO:+0000
TZNAME:UTC
DTSTART:20270101T000000
END:STANDARD
END:VTIMEZONE
BEGIN:VEVENT
DTSTART;VALUE=DATE:20270119
DTEND;VALUE=DATE:20270120
DTSTAMP:20260423T154517
CREATED:20190301T124905Z
LAST-MODIFIED:20190301T124905Z
UID:23783-1800316800-1800403199@www.lincolnshirefreemasons.org
SUMMARY:Saint James Lodge No 7415
DESCRIPTION:Share on FacebookTweetFollow usSave
URL:https://www.lincolnshirefreemasons.org/event/saint-james-lodge-no-7415/2027-01-19/
LOCATION:Grimsby\, Masonic Hall\, Cambridge Road\, Grimsby
CATEGORIES:Calendar
END:VEVENT
END:VCALENDAR