BEGIN:VCALENDAR
VERSION:2.0
PRODID:-//Provincial Grand Lodge of Lincolnshire - ECPv5.8.2//NONSGML v1.0//EN
CALSCALE:GREGORIAN
METHOD:PUBLISH
X-WR-CALNAME:Provincial Grand Lodge of Lincolnshire
X-ORIGINAL-URL:https://www.lincolnshirefreemasons.org
X-WR-CALDESC:Events for Provincial Grand Lodge of Lincolnshire
BEGIN:VTIMEZONE
TZID:UTC
BEGIN:STANDARD
TZOFFSETFROM:+0000
TZOFFSETTO:+0000
TZNAME:UTC
DTSTART:20260101T000000
END:STANDARD
END:VTIMEZONE
BEGIN:VEVENT
DTSTART;VALUE=DATE:20261014
DTEND;VALUE=DATE:20261015
DTSTAMP:20260423T153943
CREATED:20190301T142654Z
LAST-MODIFIED:20190301T142654Z
UID:22507-1791936000-1792022399@www.lincolnshirefreemasons.org
SUMMARY:Sir Joseph Banks Daylight Lodge No 9828
DESCRIPTION:Share on FacebookTweetFollow usSave
URL:https://www.lincolnshirefreemasons.org/event/sir-joseph-banks-daylight-lodge-no-9828/2026-10-14/
LOCATION:Horncastle\, Banks Street\, Horncastle
CATEGORIES:Calendar
END:VEVENT
END:VCALENDAR