BEGIN:VCALENDAR
VERSION:2.0
PRODID:-//Provincial Grand Lodge of Lincolnshire - ECPv5.8.2//NONSGML v1.0//EN
CALSCALE:GREGORIAN
METHOD:PUBLISH
X-WR-CALNAME:Provincial Grand Lodge of Lincolnshire
X-ORIGINAL-URL:https://www.lincolnshirefreemasons.org
X-WR-CALDESC:Events for Provincial Grand Lodge of Lincolnshire
BEGIN:VTIMEZONE
TZID:UTC
BEGIN:STANDARD
TZOFFSETFROM:+0000
TZOFFSETTO:+0000
TZNAME:UTC
DTSTART:20260101T000000
END:STANDARD
END:VTIMEZONE
BEGIN:VEVENT
DTSTART;VALUE=DATE:20261109
DTEND;VALUE=DATE:20261110
DTSTAMP:20260423T153720
CREATED:20190301T082317Z
LAST-MODIFIED:20190301T082317Z
UID:22818-1794182400-1794268799@www.lincolnshirefreemasons.org
SUMMARY:St. Guthlac Lodge No 2880
DESCRIPTION:Share on FacebookTweetFollow usSave
URL:https://www.lincolnshirefreemasons.org/event/st-guthlac-lodge-no-2880/2026-11-09/
LOCATION:Deeping St. James\, 96 Bridge Street\, Deeping St. James\, PE6 8HA\, United Kingdom
CATEGORIES:Calendar
END:VEVENT
END:VCALENDAR