BEGIN:VCALENDAR
VERSION:2.0
PRODID:-//Provincial Grand Lodge of Lincolnshire - ECPv5.8.2//NONSGML v1.0//EN
CALSCALE:GREGORIAN
METHOD:PUBLISH
X-WR-CALNAME:Provincial Grand Lodge of Lincolnshire
X-ORIGINAL-URL:https://www.lincolnshirefreemasons.org
X-WR-CALDESC:Events for Provincial Grand Lodge of Lincolnshire
BEGIN:VTIMEZONE
TZID:Europe/London
BEGIN:DAYLIGHT
TZOFFSETFROM:+0000
TZOFFSETTO:+0100
TZNAME:BST
DTSTART:20260329T010000
END:DAYLIGHT
BEGIN:STANDARD
TZOFFSETFROM:+0100
TZOFFSETTO:+0000
TZNAME:GMT
DTSTART:20261025T010000
END:STANDARD
BEGIN:DAYLIGHT
TZOFFSETFROM:+0000
TZOFFSETTO:+0100
TZNAME:BST
DTSTART:20270328T010000
END:DAYLIGHT
BEGIN:STANDARD
TZOFFSETFROM:+0100
TZOFFSETTO:+0000
TZNAME:GMT
DTSTART:20271031T010000
END:STANDARD
END:VTIMEZONE
BEGIN:VEVENT
DTSTART;VALUE=DATE:20261210
DTEND;VALUE=DATE:20261211
DTSTAMP:20260423T135646
CREATED:20190909T142422Z
LAST-MODIFIED:20190909T142422Z
UID:23290-1796860800-1796947199@www.lincolnshirefreemasons.org
SUMMARY:St. Lawrence Chapter No 2078
DESCRIPTION:Share on FacebookTweetFollow usSave
URL:https://www.lincolnshirefreemasons.org/event/st-lawrence-chapter-no-2078/2026-12-10/
LOCATION:Scunthorpe\, Normanby Road\, Scunthorpe
CATEGORIES:Calendar,Chapter
END:VEVENT
BEGIN:VEVENT
DTSTART;VALUE=DATE:20270211
DTEND;VALUE=DATE:20270212
DTSTAMP:20260423T135646
CREATED:20190909T142422Z
LAST-MODIFIED:20190909T142422Z
UID:24153-1802304000-1802390399@www.lincolnshirefreemasons.org
SUMMARY:St. Lawrence Chapter No 2078
DESCRIPTION:Share on FacebookTweetFollow usSave
URL:https://www.lincolnshirefreemasons.org/event/st-lawrence-chapter-no-2078/2027-02-11/
LOCATION:Scunthorpe\, Normanby Road\, Scunthorpe
CATEGORIES:Calendar,Chapter
END:VEVENT
BEGIN:VEVENT
DTSTART;VALUE=DATE:20270408
DTEND;VALUE=DATE:20270409
DTSTAMP:20260423T135646
CREATED:20190909T142422Z
LAST-MODIFIED:20190909T142422Z
UID:24826-1807142400-1807228799@www.lincolnshirefreemasons.org
SUMMARY:St. Lawrence Chapter No 2078
DESCRIPTION:Share on FacebookTweetFollow usSave
URL:https://www.lincolnshirefreemasons.org/event/st-lawrence-chapter-no-2078/2027-04-08/
LOCATION:Scunthorpe\, Normanby Road\, Scunthorpe
CATEGORIES:Calendar,Chapter
END:VEVENT
BEGIN:VEVENT
DTSTART;VALUE=DATE:20261008
DTEND;VALUE=DATE:20261009
DTSTAMP:20260423T135646
CREATED:20190909T142422Z
LAST-MODIFIED:20190909T142422Z
UID:22421-1791417600-1791503999@www.lincolnshirefreemasons.org
SUMMARY:St. Lawrence Chapter No 2078
DESCRIPTION:Share on FacebookTweetFollow usSave
URL:https://www.lincolnshirefreemasons.org/event/st-lawrence-chapter-no-2078/2026-10-08/
LOCATION:Scunthorpe\, Normanby Road\, Scunthorpe
CATEGORIES:Calendar,Chapter
END:VEVENT
END:VCALENDAR