BEGIN:VCALENDAR
VERSION:2.0
PRODID:-//Provincial Grand Lodge of Lincolnshire - ECPv5.8.2//NONSGML v1.0//EN
CALSCALE:GREGORIAN
METHOD:PUBLISH
X-WR-CALNAME:Provincial Grand Lodge of Lincolnshire
X-ORIGINAL-URL:https://www.lincolnshirefreemasons.org
X-WR-CALDESC:Events for Provincial Grand Lodge of Lincolnshire
BEGIN:VTIMEZONE
TZID:Europe/London
BEGIN:DAYLIGHT
TZOFFSETFROM:+0000
TZOFFSETTO:+0100
TZNAME:BST
DTSTART:20270328T010000
END:DAYLIGHT
BEGIN:STANDARD
TZOFFSETFROM:+0100
TZOFFSETTO:+0000
TZNAME:GMT
DTSTART:20271031T010000
END:STANDARD
END:VTIMEZONE
BEGIN:VEVENT
DTSTART;VALUE=DATE:20270112
DTEND;VALUE=DATE:20270113
DTSTAMP:20260424T101811
CREATED:20190909T141712Z
LAST-MODIFIED:20190909T141712Z
UID:23647-1799712000-1799798399@www.lincolnshirefreemasons.org
SUMMARY:St Matthew Chapter No 1447
DESCRIPTION:Share on FacebookTweetFollow usSave
URL:https://www.lincolnshirefreemasons.org/event/st-matthew-chapter-no-1447/2027-01-12/
LOCATION:Barton Upon Humber\, Brigg Road\, Barton Upon Humber
CATEGORIES:Calendar,Chapter
END:VEVENT
END:VCALENDAR