BEGIN:VCALENDAR
VERSION:2.0
PRODID:-//Provincial Grand Lodge of Lincolnshire - ECPv5.8.2//NONSGML v1.0//EN
CALSCALE:GREGORIAN
METHOD:PUBLISH
X-WR-CALNAME:Provincial Grand Lodge of Lincolnshire
X-ORIGINAL-URL:https://www.lincolnshirefreemasons.org
X-WR-CALDESC:Events for Provincial Grand Lodge of Lincolnshire
BEGIN:VTIMEZONE
TZID:Europe/London
BEGIN:DAYLIGHT
TZOFFSETFROM:+0000
TZOFFSETTO:+0100
TZNAME:BST
DTSTART:20260329T010000
END:DAYLIGHT
BEGIN:STANDARD
TZOFFSETFROM:+0100
TZOFFSETTO:+0000
TZNAME:GMT
DTSTART:20261025T010000
END:STANDARD
BEGIN:DAYLIGHT
TZOFFSETFROM:+0000
TZOFFSETTO:+0100
TZNAME:BST
DTSTART:20270328T010000
END:DAYLIGHT
BEGIN:STANDARD
TZOFFSETFROM:+0100
TZOFFSETTO:+0000
TZNAME:GMT
DTSTART:20271031T010000
END:STANDARD
END:VTIMEZONE
BEGIN:VEVENT
DTSTART;VALUE=DATE:20260924
DTEND;VALUE=DATE:20260925
DTSTAMP:20260423T170608
CREATED:20190909T135523Z
LAST-MODIFIED:20190909T135523Z
UID:22165-1790208000-1790294399@www.lincolnshirefreemasons.org
SUMMARY:Welland Chapter No 469
DESCRIPTION:Share on FacebookTweetFollow usSave
URL:https://www.lincolnshirefreemasons.org/event/welland-chapter-no-469/2026-09-24/
LOCATION:Spalding\, Pinchbeck Road\, Spalding
CATEGORIES:Calendar,Chapter
END:VEVENT
BEGIN:VEVENT
DTSTART;VALUE=DATE:20261126
DTEND;VALUE=DATE:20261127
DTSTAMP:20260423T170608
CREATED:20190909T135523Z
LAST-MODIFIED:20190909T135523Z
UID:23103-1795651200-1795737599@www.lincolnshirefreemasons.org
SUMMARY:Welland Chapter No 469
DESCRIPTION:Share on FacebookTweetFollow usSave
URL:https://www.lincolnshirefreemasons.org/event/welland-chapter-no-469/2026-11-26/
LOCATION:Spalding\, Pinchbeck Road\, Spalding
CATEGORIES:Calendar,Chapter
END:VEVENT
BEGIN:VEVENT
DTSTART;VALUE=DATE:20270128
DTEND;VALUE=DATE:20270129
DTSTAMP:20260423T170608
CREATED:20190909T135523Z
LAST-MODIFIED:20190909T135523Z
UID:23935-1801094400-1801180799@www.lincolnshirefreemasons.org
SUMMARY:Welland Chapter No 469
DESCRIPTION:Share on FacebookTweetFollow usSave
URL:https://www.lincolnshirefreemasons.org/event/welland-chapter-no-469/2027-01-28/
LOCATION:Spalding\, Pinchbeck Road\, Spalding
CATEGORIES:Calendar,Chapter
END:VEVENT
BEGIN:VEVENT
DTSTART;VALUE=DATE:20270325
DTEND;VALUE=DATE:20270326
DTSTAMP:20260423T170608
CREATED:20190909T135523Z
LAST-MODIFIED:20190909T135523Z
UID:24661-1805932800-1806019199@www.lincolnshirefreemasons.org
SUMMARY:Welland Chapter No 469
DESCRIPTION:Share on FacebookTweetFollow usSave
URL:https://www.lincolnshirefreemasons.org/event/welland-chapter-no-469/2027-03-25/
LOCATION:Spalding\, Pinchbeck Road\, Spalding
CATEGORIES:Calendar,Chapter
END:VEVENT
END:VCALENDAR