BEGIN:VCALENDAR
VERSION:2.0
PRODID:-//Provincial Grand Lodge of Lincolnshire - ECPv5.8.2//NONSGML v1.0//EN
CALSCALE:GREGORIAN
METHOD:PUBLISH
X-WR-CALNAME:Provincial Grand Lodge of Lincolnshire
X-ORIGINAL-URL:https://www.lincolnshirefreemasons.org
X-WR-CALDESC:Events for Provincial Grand Lodge of Lincolnshire
BEGIN:VTIMEZONE
TZID:Europe/London
BEGIN:DAYLIGHT
TZOFFSETFROM:+0000
TZOFFSETTO:+0100
TZNAME:BST
DTSTART:20260329T010000
END:DAYLIGHT
BEGIN:STANDARD
TZOFFSETFROM:+0100
TZOFFSETTO:+0000
TZNAME:GMT
DTSTART:20261025T010000
END:STANDARD
BEGIN:DAYLIGHT
TZOFFSETFROM:+0000
TZOFFSETTO:+0100
TZNAME:BST
DTSTART:20270328T010000
END:DAYLIGHT
BEGIN:STANDARD
TZOFFSETFROM:+0100
TZOFFSETTO:+0000
TZNAME:GMT
DTSTART:20271031T010000
END:STANDARD
END:VTIMEZONE
BEGIN:VEVENT
DTSTART;VALUE=DATE:20260625
DTEND;VALUE=DATE:20260626
DTSTAMP:20260423T135810
CREATED:20190916T100756Z
LAST-MODIFIED:20190916T100756Z
UID:23900-1782345600-1782431999@www.lincolnshirefreemasons.org
SUMMARY:Wellow Abbey Chapter No 8819
DESCRIPTION:Share on FacebookTweetFollow usSave
URL:https://www.lincolnshirefreemasons.org/event/wellow-abbey-chapter-no-8819/2026-06-25/
LOCATION:Grimsby\, Masonic Hall\, Cambridge Road\, Grimsby
CATEGORIES:Calendar,Chapter
END:VEVENT
BEGIN:VEVENT
DTSTART;VALUE=DATE:20270125
DTEND;VALUE=DATE:20270126
DTSTAMP:20260423T135810
CREATED:20190916T100756Z
LAST-MODIFIED:20190916T100756Z
UID:23897-1800835200-1800921599@www.lincolnshirefreemasons.org
SUMMARY:Wellow Abbey Chapter No 8819
DESCRIPTION:Share on FacebookTweetFollow usSave
URL:https://www.lincolnshirefreemasons.org/event/wellow-abbey-chapter-no-8819/2027-01-25/
LOCATION:Grimsby\, Masonic Hall\, Cambridge Road\, Grimsby
CATEGORIES:Calendar,Chapter
END:VEVENT
BEGIN:VEVENT
DTSTART;VALUE=DATE:20260423
DTEND;VALUE=DATE:20260424
DTSTAMP:20260423T135810
CREATED:20190916T100756Z
LAST-MODIFIED:20190916T100756Z
UID:23898-1776902400-1776988799@www.lincolnshirefreemasons.org
SUMMARY:Wellow Abbey Chapter No 8819
DESCRIPTION:Share on FacebookTweetFollow usSave
URL:https://www.lincolnshirefreemasons.org/event/wellow-abbey-chapter-no-8819/2026-04-23/
LOCATION:Grimsby\, Masonic Hall\, Cambridge Road\, Grimsby
CATEGORIES:Calendar,Chapter
END:VEVENT
BEGIN:VEVENT
DTSTART;VALUE=DATE:20260528
DTEND;VALUE=DATE:20260529
DTSTAMP:20260423T135810
CREATED:20190916T100756Z
LAST-MODIFIED:20190916T100756Z
UID:23899-1779926400-1780012799@www.lincolnshirefreemasons.org
SUMMARY:Wellow Abbey Chapter No 8819
DESCRIPTION:Share on FacebookTweetFollow usSave
URL:https://www.lincolnshirefreemasons.org/event/wellow-abbey-chapter-no-8819/2026-05-28/
LOCATION:Grimsby\, Masonic Hall\, Cambridge Road\, Grimsby
CATEGORIES:Calendar,Chapter
END:VEVENT
END:VCALENDAR