BEGIN:VCALENDAR
VERSION:2.0
PRODID:-//Provincial Grand Lodge of Lincolnshire - ECPv5.8.2//NONSGML v1.0//EN
CALSCALE:GREGORIAN
METHOD:PUBLISH
X-WR-CALNAME:Provincial Grand Lodge of Lincolnshire
X-ORIGINAL-URL:https://www.lincolnshirefreemasons.org
X-WR-CALDESC:Events for Provincial Grand Lodge of Lincolnshire
BEGIN:VTIMEZONE
TZID:UTC
BEGIN:STANDARD
TZOFFSETFROM:+0000
TZOFFSETTO:+0000
TZNAME:UTC
DTSTART:20270101T000000
END:STANDARD
END:VTIMEZONE
BEGIN:VEVENT
DTSTART;VALUE=DATE:20270412
DTEND;VALUE=DATE:20270413
DTSTAMP:20260423T124315
CREATED:20190228T171528Z
LAST-MODIFIED:20190228T171528Z
UID:24850-1807488000-1807574399@www.lincolnshirefreemasons.org
SUMMARY:Witham Lodge No 297
DESCRIPTION:Share on FacebookTweetFollow usSave
URL:https://www.lincolnshirefreemasons.org/event/witham-lodge-no-297/2027-04-12/
LOCATION:Lincoln\, 116 Nettleham Road\, Lincoln\, LN2 1RR
CATEGORIES:Calendar
END:VEVENT
END:VCALENDAR