BEGIN:VCALENDAR
VERSION:2.0
PRODID:-//Provincial Grand Lodge of Lincolnshire - ECPv5.8.2//NONSGML v1.0//EN
CALSCALE:GREGORIAN
METHOD:PUBLISH
X-WR-CALNAME:Provincial Grand Lodge of Lincolnshire
X-ORIGINAL-URL:https://www.lincolnshirefreemasons.org
X-WR-CALDESC:Events for Provincial Grand Lodge of Lincolnshire
BEGIN:VTIMEZONE
TZID:UTC
BEGIN:STANDARD
TZOFFSETFROM:+0000
TZOFFSETTO:+0000
TZNAME:UTC
DTSTART:20190101T000000
END:STANDARD
TZID:Europe/London
BEGIN:DAYLIGHT
TZOFFSETFROM:+0000
TZOFFSETTO:+0100
TZNAME:BST
DTSTART:20190331T010000
END:DAYLIGHT
BEGIN:STANDARD
TZOFFSETFROM:+0100
TZOFFSETTO:+0000
TZNAME:GMT
DTSTART:20191027T010000
END:STANDARD
END:VTIMEZONE
BEGIN:VEVENT
DTSTART;VALUE=DATE:20190913
DTEND;VALUE=DATE:20190914
DTSTAMP:20260423T181338
CREATED:20190301T095022Z
LAST-MODIFIED:20250814T092553Z
UID:3032-1568332800-1568419199@www.lincolnshirefreemasons.org
SUMMARY:Lindsey Lodge No 712
DESCRIPTION:Share on FacebookTweetFollow usSave
URL:https://www.lincolnshirefreemasons.org/event/lindis-lodge-no-4690/2019-09-13/
LOCATION:Louth\, The Masonic Centre\, Bolingbroke Road\, Fairfield Industrial Estate\, Louth\, LN11 0WA
CATEGORIES:Calendar
END:VEVENT
BEGIN:VEVENT
DTSTART;VALUE=DATE:20260410
DTEND;VALUE=DATE:20260411
DTSTAMP:20260423T181338
CREATED:20190301T095022Z
LAST-MODIFIED:20190301T095022Z
UID:21502-1775779200-1775865599@www.lincolnshirefreemasons.org
SUMMARY:Lindsey Lodge No 712
DESCRIPTION:Share on FacebookTweetFollow usSave
URL:https://www.lincolnshirefreemasons.org/event/lindis-lodge-no-4690-2026-08-14/2026-04-10/
LOCATION:Louth\, The Masonic Centre\, Bolingbroke Road\, Fairfield Industrial Estate\, Louth\, LN11 0WA
CATEGORIES:Calendar
END:VEVENT
BEGIN:VEVENT
DTSTART;VALUE=DATE:20260420
DTEND;VALUE=DATE:20260421
DTSTAMP:20260423T181338
CREATED:20190301T113610Z
LAST-MODIFIED:20190301T113610Z
UID:20319-1776643200-1776729599@www.lincolnshirefreemasons.org
SUMMARY:Hermes Lodge No 6861
DESCRIPTION:Share on FacebookTweetFollow usSave
URL:https://www.lincolnshirefreemasons.org/event/hermes-lodge-no-6861/2026-04-20/
LOCATION:Louth\, The Masonic Centre\, Bolingbroke Road\, Fairfield Industrial Estate\, Louth\, LN11 0WA
CATEGORIES:Calendar
END:VEVENT
BEGIN:VEVENT
DTSTART;VALUE=DATE:20190520
DTEND;VALUE=DATE:20190521
DTSTAMP:20260423T181338
CREATED:20190301T141545Z
LAST-MODIFIED:20210909T071803Z
UID:3308-1558310400-1558396799@www.lincolnshirefreemasons.org
SUMMARY:Daylight Lodge No 9748
DESCRIPTION:Share on FacebookTweetFollow usSave
URL:https://www.lincolnshirefreemasons.org/event/daylight-lodge-no-9748/2019-05-20/
LOCATION:Louth\, The Masonic Centre\, Bolingbroke Road\, Fairfield Industrial Estate\, Louth\, LN11 0WA
CATEGORIES:Calendar
END:VEVENT
BEGIN:VEVENT
DTSTART;VALUE=DATE:20191018
DTEND;VALUE=DATE:20191019
DTSTAMP:20260423T181338
CREATED:20190909T140210Z
LAST-MODIFIED:20190909T140210Z
UID:4901-1571356800-1571443199@www.lincolnshirefreemasons.org
SUMMARY:St. James Chapter No 712
DESCRIPTION:Share on FacebookTweetFollow usSave
URL:https://www.lincolnshirefreemasons.org/event/st-james-chapter-no-712/2019-10-18/
LOCATION:Louth\, The Masonic Centre\, Bolingbroke Road\, Fairfield Industrial Estate\, Louth\, LN11 0WA
CATEGORIES:Calendar,Chapter
END:VEVENT
END:VCALENDAR